Workbook
Name fhdata_Query: #REF!
Name PARKS_Query: #REF!
Name sum_data: #REF!
Name sum_data: #REF!

Sheet Annual Report
A1: 2011 Aerial Overview Summary for British Columbia
B2: Forest Regions | J2: Provincial
B3: South Coast | C3: West Coast | D3: Cariboo | E3: Thompson/ Okanagan | F3: Kootenay/ Boundary | G3: Skeena | H3: Omineca | I3: Northeast | J3: Total
A5: Bark Beetles
A6: IBM=Mountain Pine Beetle | B6: =Master!Y6 -> 9533.7781 | C6: =Master!BI6 -> 2802.3398 | D6: =Master!CG6 -> 13919.967 | E6: =Master!DP6 -> 88167.34 | F6: =Master!FL6 -> 60169.084 | G6: =Master!HT6 -> 393482.62 | H6: =Master!IR6 -> 2254961.4 | I6: =Master!JP6 -> 1801870.1 | J6: =SUM(B6:I6) -> 4624906.6
A7: IBS=Spruce Beetle | B7: =Master!Y7 -> 68.425611 | C7: =Master!BI7 -> 215.74518 | D7: =Master!CG7 -> 6754.8571 | E7: =Master!DP7 -> 2804.5926 | F7: =Master!FL7 -> 479.62202 | G7: =Master!HT7 -> 5 | H7: =Master!IR7 -> 215.87742 | I7: =Master!JP7 -> 8801.86 | J7: =SUM(B7:I7) -> 19345.98
A8: IBB=Western Balsam Bark Beetle | B8: =Master!Y8 -> 537.70907 | C8: =Master!BI8 -> 4439.9284 | D8: =Master!CG8 -> 44825.071 | E8: =Master!DP8 -> 110725.74 | F8: =Master!FL8 -> 5253.2244 | G8: =Master!HT8 -> 65353.759 | H8: =Master!IR8 -> 78191.508 | I8: =Master!JP8 -> 16384.093 | J8: =SUM(B8:I8) -> 325711.03
A9: IBD=Douglas-fir Beetle | B9: =Master!Y9 -> 2208.7864 | C9: =Master!BI9 -> 264.3555 | D9: =Master!CG9 -> 2828.7084 | E9: =Master!DP9 -> 1731.3948 | F9: =Master!FL9 -> 1499.9258 | G9: =Master!HT9 -> 138.32073 | H9: =Master!IR9 -> 194.8635 | I9: =Master!JP9 -> 0 | J9: =SUM(B9:I9) -> 8866.3551
A10: IBF=Fir engraver beetle | B10: =Master!Y10 -> 0 | C10: =Master!BI10 -> 0 | D10: =Master!CG10 -> 0 | E10: =Master!DP10 -> 0 | F10: =Master!FL10 -> 0 | G10: =Master!HT10 -> 0 | H10: =Master!IR10 -> 0 | I10: =Master!JP10 -> 0 | J10: =SUM(B10:I10) -> 0
A11: IBP=Twig beetle | B11: =Master!Y11 -> 0 | C11: =Master!BI11 -> 0 | D11: =Master!CG11 -> 0 | E11: =Master!DP11 -> 0 | F11: =Master!FL11 -> 0 | G11: =Master!HT11 -> 0 | H11: =Master!IR11 -> 0 | I11: =Master!JP11 -> 0 | J11: =SUM(B11:I11) -> 0
A12: IBI=Engraver Beetle (Ips species) | B12: =Master!Y12 -> 0 | C12: =Master!BI12 -> 0 | D12: =Master!CG12 -> 8.7599398 | E12: =Master!DP12 -> 0 | F12: =Master!FL12 -> 0 | G12: =Master!HT12 -> 0 | H12: =Master!IR12 -> 0 | I12: =Master!JP12 -> 0 | J12: =SUM(B12:I12) -> 8.7599398
A13: IBW=Western Pine Beetle | B13: =Master!Y13 -> 0 | C13: =Master!BI13 -> 0 | D13: =Master!CG13 -> 0 | E13: =Master!DP13 -> 0 | F13: =Master!FL13 -> 0 | G13: =Master!HT13 -> 0 | H13: =Master!IR13 -> 0 | I13: =Master!JP13 -> 0 | J13: =SUM(B13:I13) -> 0
A14: IBL=Lodgepole Pine Beetle | B14: =Master!Y14 -> 0 | C14: =Master!BI14 -> 0 | D14: =Master!CG14 -> 0 | E14: =Master!DP14 -> 0 | F14: =Master!FL14 -> 0 | G14: =Master!HT14 -> 0 | H14: =Master!IR14 -> 0 | I14: =Master!JP14 -> 0 | J14: =SUM(B14:I14) -> 0
A15: IBT=Red Turpentine Beetle | B15: =Master!Y15 -> 0 | C15: =Master!BI15 -> 0 | D15: =Master!CG15 -> 0 | E15: =Master!DP15 -> 0 | F15: =Master!FL15 -> 0 | G15: =Master!HT15 -> 0 | H15: =Master!IR15 -> 0 | I15: =Master!JP15 -> 0 | J15: =SUM(B15:I15) -> 0
A16: IB=Unknown Beetle | B16: =Master!Y15 -> 0 | C16: =Master!BI15 -> 0 | D16: =Master!CG15 -> 0 | E16: =Master!DP15 -> 0 | F16: =Master!FL15 -> 0 | G16: =Master!HT15 -> 0 | H16: =Master!IR15 -> 0 | I16: =Master!JP15 -> 0 | J16: =SUM(B16:I16) -> 0
A17: IWW=Warrens Root Collar Weevil | B17: =Master!Y17 -> 0 | C17: =Master!BI17 -> 0 | D17: =Master!CG17 -> 0 | E17: =Master!DP17 -> 0 | F17: =Master!FL17 -> 0 | G17: =Master!HT17 -> 0 | H17: =Master!IR17 -> 0 | I17: =Master!JP17 -> 0.25 | J17: =SUM(B17:I17) -> 0.25
A18: Total All BB= | B18: =Master!Y18 -> 12348.699 | C18: =Master!BI18 -> 7722.3689 | D18: =Master!CG18 -> 68337.364 | E18: =Master!DP18 -> 203429.07 | F18: =Master!FL18 -> 67401.857 | G18: =Master!HT18 -> 458979.7 | H18: =Master!IR18 -> 2333563.7 | I18: =Master!JP18 -> 1827056.3 | J18: =SUM(B18:I18) -> 4978839
A20: Defoliators
A21: ID=Defoliators | B21: =Master!Y21 -> 0 | C21: =Master!BI21 -> 308.37837 | D21: =Master!CG21 -> 0 | E21: =Master!DP21 -> 0 | F21: =Master!FL21 -> 0 | G21: =Master!HT21 -> 1799.0489 | H21: =Master!IR21 -> 2965.9045 | I21: =Master!JP21 -> 0 | J21: =SUM(B21:I21) -> 5073.3318
A22: IAB=Balsam Woolly Adelgid | B22: =Master!Y22 -> 0 | C22: =Master!BI22 -> 0 | D22: =Master!CG22 -> 0 | E22: =Master!DP22 -> 0 | F22: =Master!FL22 -> 0 | G22: =Master!HT22 -> 0 | H22: =Master!IR22 -> 0 | I22: =Master!JP22 -> 0 | J22: =SUM(B22:I22) -> 0
A23: IAS=Green Spruce Aphid | B23: =Master!Y23 -> 0 | C23: =Master!BI23 -> 0 | D23: =Master!CG23 -> 0 | E23: =Master!DP23 -> 0 | F23: =Master!FL23 -> 0 | G23: =Master!HT23 -> 0 | H23: =Master!IR23 -> 0 | I23: =Master!JP23 -> 0 | J23: =SUM(B23:I23) -> 0
A24: ID2=Bruce spanworm | B24: =Master!Y24 -> 0 | C24: =Master!BI24 -> 0 | D24: =Master!CG24 -> 0 | E24: =Master!DP24 -> 0 | F24: =Master!FL24 -> 0 | G24: =Master!HT24 -> 0 | H24: =Master!IR24 -> 473.47551 | I24: =Master!JP24 -> 8569.0508 | J24: =SUM(B24:I24) -> 9042.5263
A25: ID6=Aspen Leaf Miner | B25: =Master!Y25 -> 0 | C25: =Master!BI25 -> 1553.1996 | D25: =Master!CG25 -> 11347.605 | E25: =Master!DP25 -> 34865.434 | F25: =Master!FL25 -> 3340.5308 | G25: =Master!HT25 -> 229059.79 | H25: =Master!IR25 -> 155525.08 | I25: =Master!JP25 -> 233358.47 | J25: =SUM(B25:I25) -> 669050.11
A26: IDA=Black Army Cutworm | B26: =Master!Y26 -> 0 | C26: =Master!BI26 -> 0 | D26: =Master!CG26 -> 0 | E26: =Master!DP26 -> 0 | F26: =Master!FL26 -> 0 | G26: =Master!HT26 -> 0 | H26: =Master!IR26 -> 67.308095 | I26: =Master!JP26 -> 0 | J26: =SUM(B26:I26) -> 67.308095
A27: IDB=2-Year Budworm | B27: =Master!Y27 -> 0 | C27: =Master!BI27 -> 0 | D27: =Master!CG27 -> 0 | E27: =Master!DP27 -> 0 | F27: =Master!FL27 -> 0 | G27: =Master!HT27 -> 89020.184 | H27: =Master!IR27 -> 89185.11 | I27: =Master!JP27 -> 0 | J27: =SUM(B27:I27) -> 178205.29
A28: IDC=Larch casebearer | B28: =Master!Y28 -> 0 | C28: =Master!BI28 -> 0 | D28: =Master!CG28 -> 0 | E28: =Master!DP28 -> 78.195518 | F28: =Master!FL28 -> 0 | G28: =Master!HT28 -> 0 | H28: =Master!IR28 -> 0 | I28: =Master!JP28 -> 0 | J28: =SUM(B28:I28) -> 78.195518
A29: IDE=Spruce Budworm | B29: =Master!Y29 -> 0 | C29: =Master!BI29 -> 0 | D29: =Master!CG29 -> 0 | E29: =Master!DP29 -> 0 | F29: =Master!FL29 -> 0 | G29: =Master!HT29 -> 0 | H29: =Master!IR29 -> 0 | I29: =Master!JP29 -> 0 | J29: =SUM(B29:I29) -> 0
A30: IDF=Forest Tent Caterpillar | B30: =Master!Y30 -> 0 | C30: =Master!BI30 -> 0 | D30: =Master!CG30 -> 40127.132 | E30: =Master!DP30 -> 2660.9003 | F30: =Master!FL30 -> 0 | G30: =Master!HT30 -> 3360.4026 | H30: =Master!IR30 -> 402979.28 | I30: =Master!JP30 -> 4009.1765 | J30: =SUM(B30:I30) -> 453136.89
A31: IDH=Western Blackheaded Budworm | B31: =Master!Y31 -> 12.028587 | C31: =Master!BI31 -> 41129.754 | D31: =Master!CG31 -> 0 | E31: =Master!DP31 -> 0 | F31: =Master!FL31 -> 0 | G31: =Master!HT31 -> 0 | H31: =Master!IR31 -> 0 | I31: =Master!JP31 -> 0 | J31: =SUM(B31:I31) -> 41141.783
A32: IDI=Pine needle sheathminer | B32: =Master!Y32 -> 0 | C32: =Master!BI32 -> 0 | D32: =Master!CG32 -> 111.97705 | E32: =Master!DP32 -> 268.90185 | F32: =Master!FL32 -> 0 | G32: =Master!HT32 -> 0 | H32: =Master!IR32 -> 347.721 | I32: =Master!JP32 -> 0 | J32: =SUM(B32:I32) -> 728.5999
... A45: Total Defoliators= | B45: =Master!Y45 -> 2209.2737 | C45: =Master!BI45 -> 42991.332 | D45: =Master!CG45 -> 477220.64 | E45: =Master!DP45 -> 203439.76 | F45: =Master!FL45 -> 53826.03 | G45: =Master!HT45 -> 323239.43 | H45: =Master!IR45 -> 651543.88 | I45: =Master!JP45 -> 297872.96 | J45: =SUM(B45:I45) -> 2052343.3
A47: Other
A48: N | B48: =Master!Y48 -> 0 | C48: =Master!BI48 -> 0 | D48: =Master!CG48 -> 0 | E48: =Master!DP48 -> 829.61906 | F48: =Master!FL48 -> 0 | G48: =Master!HT48 -> 0 | H48: =Master!IR48 -> 0 | I48: =Master!JP48 -> 900.9814 | J48: =SUM(B48:I48) -> 1730.6005
A49: NAV=Avalanche or snow slide | B49: =Master!Y49 -> 0 | C49: =Master!BI49 -> 101.01629 | D49: =Master!CG49 -> 88.662905 | E49: =Master!DP49 -> 0 | F49: =Master!FL49 -> 0 | G49: =Master!HT49 -> 0 | H49: =Master!IR49 -> 47.14666 | I49: =Master!JP49 -> 0 | J49: =SUM(B49:I49) -> 236.82585
A50: NB=Fire | B50: =Master!Y50 -> 10.961929 | C50: =Master!BI50 -> 29.029485 | D50: =Master!CG50 -> 596.16129 | E50: =Master!DP50 -> 256.88882 | F50: =Master!FL50 -> 80.728764 | G50: =Master!HT50 -> 11061.341 | H50: =Master!IR50 -> 408.12756 | I50: =Master!JP50 -> 2706.1174 | J50: =SUM(B50:I50) -> 15149.357
A51: NCA=Aspen decline | B51: =Master!Y51 -> 0 | C51: =Master!BI51 -> 0 | D51: =Master!CG51 -> 44.377939 | E51: =Master!DP51 -> 329.60593 | F51: =Master!FL51 -> 0 | G51: =Master!HT51 -> 0 | H51: =Master!IR51 -> 0 | I51: =Master!JP51 -> 0 | J51: =SUM(B51:I51) -> 373.98387
A52: NCB=Birch decline | B52: =Master!Y52 -> 0 | C52: =Master!BI52 -> 0 | D52: =Master!CG52 -> 0 | E52: =Master!DP52 -> 0 | F52: =Master!FL52 -> 0 | G52: =Master!HT52 -> 0 | H52: =Master!IR52 -> 0 | I52: =Master!JP52 -> 0 | J52: =SUM(B52:I52) -> 0
A53: NCY=Yellow cedar decline | B53: =Master!Y53 -> 0 | C53: =Master!BI53 -> 4736.9546 | D53: =Master!CG53 -> 0 | E53: =Master!DP53 -> 0 | F53: =Master!FL53 -> 0 | G53: =Master!HT53 -> 1114.7221 | H53: =Master!IR53 -> 0 | I53: =Master!JP53 -> 0 | J53: =SUM(B53:I53) -> 5851.6767
A54: ND=Drought | B54: =Master!Y54 -> 0 | C54: =Master!BI54 -> 0.75 | D54: =Master!CG54 -> 0 | E54: =Master!DP54 -> 0 | F54: =Master!FL54 -> 0 | G54: =Master!HT54 -> 8.3527869 | H54: =Master!IR54 -> 0 | I54: =Master!JP54 -> 0 | J54: =SUM(B54:I54) -> 9.1027869
A55: NF=Flooding | B55: =Master!Y55 -> 147.09787 | C55: =Master!BI55 -> 634.43855 | D55: =Master!CG55 -> 113.70861 | E55: =Master!DP55 -> 17.708798 | F55: =Master!FL55 -> 60.572474 | G55: =Master!HT55 -> 469.99325 | H55: =Master!IR55 -> 161.35662 | I55: =Master!JP55 -> 9096.5715 | J55: =SUM(B55:I55) -> 10701.448
...

Sheet Master
A1: 2011 Aerial Overview Summary for British Columbia by TSA's
A2: Regions | B2: South Coast Forest Region | Z2: West Coast Forest Region | BJ2: Cariboo Forest Region | CH2: Thompson Okanagan Forest Region | DQ2: Kootenay/Boundary Forest Region | FM2: Skeena Forest Region | HU2: Omineca Forest Region | IS2: Northeast Forest Region | JS2: =JS76/JX76 -> 0.65559958 | JT2: =JT76/JX76 -> 0.26148044 | JU2: =JU76/JX76 -> 0.082919979
A3: TSA's | B3: Fraser | H3: Soo | N3: Sunshine Coast | T3: SOUTH COAST FOREST REGION TOTAL | Z3: Arrowsmith | AF3: Kingcome | AL3: Mid Coast | AR3: Queen Charlotte | AX3: Strathcona | BD3: WEST COAST FOREST REGION TOTAL | BJ3: 100 Mile House | BP3: Quesnel | BV3: Williams Lake | CB3: CARIBOO FOREST REGION TOTAL | CH3: Kamloops | CO3: Lillooet | CV3: Merritt | DC3: Okanagan | DJ3: THOMPSON/OKANAGAN FOREST REGION TOTAL | DQ3: Arrow | DW3: Boundary | EC3: Cranbrook | EI3: Golden | EO3: Invermere | EU3: Kootenay Lake | FA3: Revelstoke | FG3: KOOTENAY/BOUNDRY FOREST REGION | FM3: Bulkley | FP3: =FP6/FR6*100 -> 6.9444018 | FS3: Cassiar | FY3: Cranberry | GE3: Kalum | GK3: Kispiox | GQ3: Lakes | GR3: Sev | GW3: Morice | HC3: Nass | HI3: North Coast | HO3: SKEENA FOREST REGION | HU3: MacKenzie | IA3: Robson Valley | IG3: Prince George | IM3: OMINECA FOREST REGION | IS3: Dawson Creek | IY3: Fort Nelson | JE3: Fort St. John | JK3: NORTHEAST FOREST REGION | JR3: GRAND TOTAL
B4: Trace | C4: Light | D4: Moderate | E4: Severe | F4: Very Sev | G4: Total | H4: Trace | I4: Light | J4: Moderate | K4: Severe | L4: Very Sev | M4: Total | N4: Trace | O4: Light | P4: Moderate | Q4: Severe | R4: Very Sev | S4: Total | T4: Trace | U4: Light | V4: Moderate | W4: Severe | X4: Ver Sev | Y4: Total | Z4: Trace | AA4: Light | AB4: Moderate | AC4: Severe | AD4: Very Sev | AE4: Total | AF4: Trace | AG4: Light | AH4: Moderate | AI4: Severe | AJ4: Very Sev | AK4: Total | AL4: Trace | AM4: Light | AN4: Moderate | AO4: Severe | AP4: Very Sev | AQ4: Total | AR4: Trace | AS4: Light | AT4: Moderate | AU4: Severe | AV4: Very Sev | AW4: Total | AX4: Trace | AY4: Light | AZ4: Moderate | BA4: Severe | BB4: Very Sev | BC4: Total | BD4: Trace | BE4: Light | BF4: Moderate | BG4: Severe | BH4: Ver Sev | BI4: Total | BJ4: Trace | BK4: Light | BL4: Moderate | BM4: Severe | BN4: Very Sev | BO4: Total | BP4: Trace | BQ4: Light | BR4: Moderate | BS4: Severe | BT4: Very Sev | BU4: Total | BV4: Trace | BW4: Light | BX4: Moderate | BY4: Severe | BZ4: Very Sev | CA4: Total | CB4: Trace | CC4: Light | CD4: Moderate | CE4: Severe | CF4: Ver Sev | CG4: Total | CH4: Trace | CI4: Light | CJ4: Moderate | CK4: Severe | CL4: Very Sev | CM4: Grey | CN4: Total | CO4: Trace | CP4: Light | CQ4: Moderate | CR4: Severe | CS4: Very Sev | CT4: Grey | CU4: Total | CV4: Trace | CW4: Light | CX4: Moderate | CY4: Severe | CZ4: Very Sev | DA4: Grey | DB4: Total | DC4: Trace | DD4: Light | DE4: Moderate | DF4: Severe | DG4: Very Sev | DH4: Grey | DI4: Total | DJ4: Trace | DK4: Light | DL4: Moderate | DM4: Severe | DN4: Ver Sev | DO4: Grey | DP4: Total | DQ4: Trace | DR4: Light | DS4: Moderate | DT4: Severe | DU4: Very Sev | DV4: Total | DW4: Trace | DX4: Light | DY4: Moderate | DZ4: Severe | EA4: Very Sev | EB4: Total | EC4: Trace | ED4: Light | EE4: Moderate | EF4: Severe | EG4: Very Sev | EH4: Total | EI4: Trace | EJ4: Light | EK4: Moderate | EL4: Severe | EM4: Very Sev | EN4: Total | EO4: Trace | EP4: Light | EQ4: Moderate | ER4: Severe | ES4: Very Sev | ET4: Total | EU4: Trace | EV4: Light | EW4: Moderate | EX4: Severe | EY4: Very Sev | EZ4: Total | FA4: Trace | FB4: Light | FC4: Moderate | FD4: Severe | FE4: Very Sev | FF4: Total | FG4: Trace | FH4: Light | FI4: Moderate | FJ4: Severe | FK4: Very Sev | FL4: TOTAL | FM4: Trace | FN4: Light | FO4: Moderate | FP4: Severe | FQ4: Very Sev | FR4: Total | FS4: Trace | FT4: Light | FU4: Moderate | FV4: Severe | FW4: Very Sev | FX4: Total | FY4: Trace | FZ4: Light | GA4: Moderate | GB4: Severe | GC4: Very Sev | GD4: Total | GE4: Trace | GF4: Light | GG4: Moderate | GH4: Severe | GI4: Very Sev | GJ4: Total | GK4: Trace | GL4: Light | GM4: Moderate | GN4: Severe | GO4: Very Sev | GP4: Total | GQ4: Trace | GR4: Light | GS4: Moderate | GT4: Severe | GU4: Very Sev | GV4: Total | GW4: Trace | GX4: Light | GY4: Moderate | GZ4: Severe | HA4: Very Sev | HB4: Total | HC4: Trace | HD4: Light | HE4: Moderate | HF4: Severe | HG4: Very Sev | HH4: Total | HI4: Trace | HJ4: Light | HK4: Moderate | HL4: Severe | HM4: Very Sev | HN4: Total | HO4: Trace | HP4: Light | HQ4: Moderate | HR4: Severe | HS4: Very Sev | HT4: TOTAL | HU4: Trace | HV4: Light | HW4: Moderate | HX4: Severe | HY4: Very Sev | HZ4: Total | IA4: Trace | IB4: Light | IC4: Moderate | ID4: Severe | IE4: Very Sev | IF4: Total | IG4: Trace | IH4: Light | II4: Moderate | IJ4: Severe | IK4: Very Sev | IL4: Total | IM4: Trace | IN4: Light | IO4: Moderate | IP4: Severe | IQ4: Very Sev | IR4: TOTAL | IS4: Trace | IT4: Light | IU4: Moderate | IV4: Severe | IW4: Very Sev | IX4: Total | IY4: Trace | IZ4: Light | JA4: Moderate | JB4: Severe | JC4: Very Sev | JD4: Total | JE4: Trace | JF4: Light | JG4: Moderate | JH4: Severe | JI4: Very Sev | JJ4: Total | JK4: Trace | JL4: Light | JM4: Moderate | JN4: Severe | JO4: Very Sev | JP4: TOTAL | JR4: Trace | JS4: Light | JT4: Moderate | JU4: Severe | JV4: Very Sev | JW4: Grey | JX4: TOTAL
A5: Bark Beetles
A6: IBM=Mountain Pine Beetle | B6: 4424.411 | C6: 2327.6817 | D6: 604.6795 | E6: 797.92106 | G6: =SUM(B6:F6) -> 8154.6933 | H6: 562.61187 | I6: 634.74595 | J6: 113.12537 | K6: 54.825992 | M6: =SUM(H6:L6) -> 1365.3092 | P6: 4.7755766 | Q6: 9 | S6: =SUM(N6:R6) -> 13.775577 | T6: =SUM(B6,H6,N6) -> 4987.0229 | U6: =SUM(C6,I6,O6) -> 2962.4277 | V6: =SUM(D6,J6,P6) -> 722.58045 | W6: =SUM(E6,K6,Q6) -> 861.74705 | X6: =SUM(F6,L6,R6) -> 0 | Y6: =SUM(T6:X6) -> 9533.7781 | AE6: =SUM(Z6:AD6) -> 0 | AI6: 0.25 | AK6: =SUM(AF6:AJ6) -> 0.25 | AL6: 2417.8475 | AM6: 376.74237 | AO6: 7.5 | AQ6: =SUM(AL6:AP6) -> 2802.0898 | AW6: =SUM(AR6:AV6) -> 0 | BC6: =SUM(AX6:BB6) -> 0 | BD6: =SUM(Z6,AF6,AL6,AR6,AX6) -> 2417.8475 | BE6: =SUM(AA6,AG6,AM6,AS6,AY6) -> 376.74237 | BF6: =SUM(AB6,AH6,AN6,AT6,AZ6) -> 0 | BG6: =SUM(AC6,AI6,AO6,AU6,BA6) -> 7.75 | BH6: =SUM(AD6,AJ6,AP6,AV6,BB6) -> 0 | BI6: =SUM(BD6:BH6) -> 2802.3398 | BJ6: 187.06856 | BK6: 39.722443 | BL6: 78.919178 | BM6: 1.25 | BO6: =SUM(BJ6:BN6) -> 306.96018 | BP6: 485.58912 | BQ6: 583.20158 | BS6: 3.25 | BU6: =SUM(BP6:BT6) -> 1072.0407 | BV6: 4875.8839 | BW6: 7462.4471 | BX6: 88.914203 | BY6: 111.5 | BZ6: 2.2209048 | CA6: =SUM(BV6:BZ6) -> 12540.966 | CB6: =SUM(BJ6,BP6,BV6) -> 5548.5416 | CC6: =SUM(BK6,BQ6,BW6) -> 8085.3711 | CD6: =SUM(BL6,BR6,BX6) -> 167.83338 | CE6: =SUM(BM6,BS6,BY6) -> 116 | CF6: =SUM(BN6,BT6,BZ6) -> 2.2209048 | CG6: =SUM(CB6:CF6) -> 13919.967 | CH6: 657.57094 | CI6: 292.33998 | CJ6: 16.479102 | CK6: 19.0679 | CN6: =SUM(CH6:CM6) -> 985.45793 | CO6: 2298.3205 | CP6: 4947.5408 | CQ6: 1893.7968 | CR6: 191.49921 | CS6: 28.39198 | CU6: =SUM(CO6:CT6) -> 9359.5493 | CV6: 17804.992 | CW6: 13704.837 | CX6: 1105.7252 | CY6: 205.19279 | CZ6: 48.153898 | DB6: =SUM(CV6:DA6) -> 32868.901 | DC6: 15222.686 | DD6: 22774.813 | DE6: 5659.3456 | DF6: 1056.4196 | DG6: 240.16653 | DI6: =SUM(DC6:DH6) -> 44953.431 | DJ6: =SUM(CH6,CO6,CV6,DC6) -> 35983.57 | DK6: =SUM(CI6,CP6,CW6,DD6) -> 41719.531 | DL6: =SUM(CJ6,CQ6,CX6,DE6) -> 8675.3467 | DM6: =SUM(CK6,CR6,CY6,DF6) -> 1472.1795 | DN6: =SUM(CL6,CS6,CZ6,DG6) -> 316.71241 | DO6: =SUM(CM6,CT6,DA6,DH6) -> 0 | DP6: =SUM(DJ6:DO6) -> 88167.34 | DQ6: 2624.4448 | DR6: 2257.6148 | DS6: 565.86406 | DT6: 124.0636 | DU6: 3.6793548 | DV6: =SUM(DQ6:DU6) -> 5575.6667 | DW6: 2562.8233 | DX6: 5231.2865 | DY6: 1313.9754 | DZ6: 120.85695 | EB6: =SUM(DW6:EA6) -> 9228.9422 | EC6: 4103.5222 | ED6: 5179.9421 | EE6: 2431.0538 | EF6: 447.8905 | EH6: =SUM(EC6:EG6) -> 12162.409 | EI6: 1884.45 | EJ6: 2920.6361 | EK6: 1780.857 | EL6: 424.96168 | EN6: =SUM(EI6:EM6) -> 7010.9047 | EO6: 6331.3788 | EP6: 5220.2977 | EQ6: 4177.84 | ER6: 1237.3587 | ET6: =SUM(EO6:ES6) -> 16966.875 | EU6: 2098.1043 | EV6: 4013.503 | EW6: 2457.2347 | EX6: 489.6087 | EZ6: =SUM(EU6:EY6) -> 9058.4506 | FA6: 33.414239 | FB6: 77.308664 | FD6: 55.113421 | FF6: =SUM(FA6:FE6) -> 165.83632 | FG6: =SUM(DQ6,DW6,EC6,EI6,EO6,EU6,FA6) -> 19638.138 | FH6: =SUM(DR6,DX6,ED6,EJ6,EP6,EV6,FB6) -> 24900.589 | FI6: =SUM(DS6,DY6,EE6,EK6,EQ6,EW6,FC6) -> 12726.825 | FJ6: =SUM(DT6,DZ6,EF6,EL6,ER6,EX6,FD6) -> 2899.8536 | FK6: =SUM(DU6,EA6,EG6,EM6,ES6,EY6,FE6) -> 3.6793548 | FL6: =SUM(FG6:FK6) -> 60169.084 | FM6: 11882.889 | FN6: 86489.929 | FO6: 12558.116 | FP6: 8318.906 | FQ6: 543.14155 | FR6: =SUM(FM6:FQ6) -> 119792.98 | FS6: 203.31247 | FV6: 6.5 | FX6: =SUM(FS6:FW6) -> 209.81247 | GB6: 2.75 | GD6: =SUM(FY6:GC6) -> 2.75 | GE6: 1204.6921 | GF6: 2555.4107 | GG6: 120.90989 | GH6: 77.066151 | GJ6: =SUM(GE6:GI6) -> 3958.0788 | GK6: 3967.4265 | GL6: 10773.956 | GM6: 1696.75 | GN6: 284.45 | GP6: =SUM(GK6:GO6) -> 16722.583 | GQ6: 24480.107 | GR6: 13137.281 | GS6: 330.14429 | GT6: 333.27147 | GV6: =SUM(GQ6:GU6) -> 38280.804 | GW6: 68015.061 | GX6: 139544.7 | GY6: 3968.1539 | GZ6: 2923.3668 | HA6: 64.328161 | HB6: =SUM(GW6:HA6) -> 214515.61 | HH6: =SUM(HC6:HG6) -> 0 | HN6: =SUM(HI6:HM6) -> 0 | HO6: =SUM(FM6,FS6,FY6,GE6,GK6,GQ6,GW6,HC6,HI6) -> 109753.49 | HP6: =SUM(FN6,FT6,FZ6,GF6,GL6,GR6,GX6,HD6,HJ6) -> 252501.28 | HQ6: =SUM(HK6,HE6,GY6,GS6,GM6,GA6,GG6,FU6,FO6) -> 18674.074 | HR6: =SUM(HL6,HF6,GZ6,GT6,GN6,GB6,GH6,FV6,FP6) -> 11946.31 | HS6: =SUM(HM6,HG6,HA6,GU6,GO6,GC6,GI6,FW6,FQ6) -> 607.46972 | HT6: =SUM(HO6:HS6) -> 393482.62 | HU6: 477940.57 | HV6: 407023.56 | HW6: 534714.9 | HX6: 27516.88 | HY6: 634.67271 | HZ6: =SUM(HU6:HY6) -> 1447830.6 | IA6: 10807.909 | IB6: 31025.423 | IC6: 25714.898 | ID6: 3187.2279 | IF6: =SUM(IA6:IE6) -> 70735.458 | IG6: 238403.66 | IH6: 307913.48 | II6: 185125.93 | IJ6: 4952.3179 | IL6: =SUM(IG6:IK6) -> 736395.38 | IM6: =SUM(HU6,IA6,IG6) -> 727152.13 | IN6: =SUM(HV6,IB6,IH6) -> 745962.47 | IO6: =SUM(HW6,IC6,II6) -> 745555.73 | IP6: =SUM(HX6,ID6,IJ6) -> 35656.426 | IQ6: =SUM(HY6,IE6,IK6) -> 634.67271 | IR6: =SUM(IM6:IQ6) -> 2254961.4 | IS6: 293065.43 | IT6: 443811.83 | IU6: 17957.198 | IV6: 1019.8512 | IX6: =SUM(IS6:IW6) -> 755854.31 | IY6: 17566.147 | IZ6: 1961.6166 | JA6: 536.29085 | JB6: 293.25 | JD6: =SUM(IY6:JC6) -> 20357.304 | JE6: 349982.11 | JF6: 465119.41 | JG6: 168418.08 | JH6: 41915.849 | JI6: 223.00162 | JJ6: =SUM(JE6:JI6) -> 1025658.5 | JK6: =SUM(IS6,IY6,JE6) -> 660613.69 | JL6: =SUM(IT6,IZ6,JF6) -> 910892.85 | JM6: =SUM(IU6,JA6,JG6) -> 186911.57 | JN6: =SUM(IV6,JB6,JH6) -> 43228.951 | JO6: =SUM(IW6,JC6,JI6) -> 223.00162 | JP6: =SUM(JK6:JO6) -> 1801870.1 | JR6: =SUM(T6,BD6,CB6,DJ6,FG6,HO6,IM6,JK6) -> 1566094.4 | JS6: =SUM(U6,BE6,CC6,DK6,FH6,HP6,IN6,JL6) -> 1987401.3 | JT6: =SUM(V6,BF6,CD6,DL6,FI6,HQ6,IO6,JM6) -> 973433.96 | JU6: =SUM(W6,BG6,CE6,DM6,FJ6,HR6,IP6,JN6) -> 96189.217 | JV6: =SUM(X6,BH6,CF6,DN6,FK6,HS6,IQ6,JO6) -> 1787.7567 | JW6: =SUM(DO6) -> 0 | JX6: =SUM(JR6:JW6) -> 4624906.6
A7: IBS=Spruce Beetle | D7: 8.9948444 | E7: 0.25 | G7: =SUM(B7:F7) -> 9.2448444 | H7: 54.152374 | K7: 0.75 | M7: =SUM(H7:L7) -> 54.902374 | N7: 0.643108 | O7: 2.6352842 | Q7: 1 | S7: =SUM(N7:R7) -> 4.2783922 | T7: =SUM(B7,H7,N7) -> 54.795482 | U7: =SUM(C7,I7,O7) -> 2.6352842 | V7: =SUM(D7,J7,P7) -> 8.9948444 | W7: =SUM(E7,K7,Q7) -> 2 | X7: =SUM(F7,L7,R7) -> 0 | Y7: =SUM(T7:X7) -> 68.425611 | AE7: =SUM(Z7:AD7) -> 0 | AI7: 1.75 | AK7: =SUM(AF7:AJ7) -> 1.75 | AL7: 95.273866 | AM7: 102.36525 | AN7: 4.8560584 | AO7: 11.5 | AQ7: =SUM(AL7:AP7) -> 213.99518 | AW7: =SUM(AR7:AV7) -> 0 | BC7: =SUM(AX7:BB7) -> 0 | BD7: =SUM(Z7,AF7,AL7,AR7,AX7) -> 95.273866 | BE7: =SUM(AA7,AG7,AM7,AS7,AY7) -> 102.36525 | BF7: =SUM(AB7,AH7,AN7,AT7,AZ7) -> 4.8560584 | BG7: =SUM(AC7,AI7,AO7,AU7,BA7) -> 13.25 | BH7: =SUM(AD7,AJ7,AP7,AV7,BB7) -> 0 | BI7: =SUM(BD7:BH7) -> 215.74518 | BJ7: 409.58456 | BK7: 1027.4714 | BL7: 268.87884 | BM7: 0.5 | BO7: =SUM(BJ7:BN7) -> 1706.4348 | BP7: 43.470845 | BQ7: 134.39383 | BS7: 3 | BU7: =SUM(BP7:BT7) -> 180.86467 | BV7: 1868.5351 | BW7: 2649.5492 | BX7: 347.97339 | BY7: 1.5 | CA7: =SUM(BV7:BZ7) -> 4867.5576 | CB7: =SUM(BJ7,BP7,BV7) -> 2321.5905 | CC7: =SUM(BK7,BQ7,BW7) -> 3811.4144 | CD7: =SUM(BL7,BR7,BX7) -> 616.85223 | CE7: =SUM(BM7,BS7,BY7) -> 5 | CF7: =SUM(BN7,BT7,BZ7) -> 0 | CG7: =SUM(CB7:CF7) -> 6754.8571 | CI7: 552.6441 | CJ7: 1069.7773 | CK7: 608.80179 | CL7: 87.831338 | CN7: =SUM(CH7:CM7) -> 2319.0546 | CP7: 1.9891488 | CQ7: 80.398988 | CR7: 0.25 | CU7: =SUM(CO7:CT7) -> 82.638136 | CW7: 33.253529 | CX7: 283.16608 | CY7: 41.423528 | CZ7: 26.670032 | DB7: =SUM(CV7:DA7) -> 384.51316 | DD7: 7.3356623 | DE7: 10.551067 | DF7: 0.5 | DI7: =SUM(DC7:DH7) -> 18.386729 | DJ7: =SUM(CH7,CO7,CV7,DC7) -> 0 | DK7: =SUM(CI7,CP7,CW7,DD7) -> 595.22244 | DL7: =SUM(CJ7,CQ7,CX7,DE7) -> 1443.8934 | DM7: =SUM(CK7,CR7,CY7,DF7) -> 650.97532 | DN7: =SUM(CL7,CS7,CZ7,DG7) -> 114.50137 | DO7: =SUM(CM7,CT7,DA7,DH7) -> 0 | DP7: =SUM(DJ7:DO7) -> 2804.5926 | DV7: =SUM(DQ7:DU7) -> 0 | DZ7: 0.5 | EB7: =SUM(DW7:EA7) -> 0.5 | EF7: 0.75 | EH7: =SUM(EC7:EG7) -> 0.75 | EN7: =SUM(EI7:EM7) -> 0 | EP7: 120.67742 | EQ7: 309.79996 | ER7: 47.644632 | ET7: =SUM(EO7:ES7) -> 478.12202 | EX7: 0.25 | EZ7: =SUM(EU7:EY7) -> 0.25 | FF7: =SUM(FA7:FE7) -> 0 | FG7: =SUM(DQ7,DW7,EC7,EI7,EO7,EU7,FA7) -> 0 | FH7: =SUM(DR7,DX7,ED7,EJ7,EP7,EV7,FB7) -> 120.67742 | FI7: =SUM(DS7,DY7,EE7,EK7,EQ7,EW7,FC7) -> 309.79996 | FJ7: =SUM(DT7,DZ7,EF7,EL7,ER7,EX7,FD7) -> 49.144632 | FK7: =SUM(DU7,EA7,EG7,EM7,ES7,EY7,FE7) -> 0 | FL7: =SUM(FG7:FK7) -> 479.62202 | FR7: =SUM(FM7:FQ7) -> 0 | FX7: =SUM(FS7:FW7) -> 0 | GD7: =SUM(FY7:GC7) -> 0 | GH7: 0.5 | GJ7: =SUM(GE7:GI7) -> 0.5 | GN7: 0.5 | GP7: =SUM(GK7:GO7) -> 0.5 | GT7: 2.5 | GV7: =SUM(GQ7:GU7) -> 2.5 | GZ7: 0.75 | HB7: =SUM(GW7:HA7) -> 0.75 | HF7: 0.75 | HH7: =SUM(HC7:HG7) -> 0.75 | HN7: =SUM(HI7:HM7) -> 0 | HO7: =SUM(FM7,FS7,FY7,GE7,GK7,GQ7,GW7,HC7,HI7) -> 0 | HP7: =SUM(FN7,FT7,FZ7,GF7,GL7,GR7,GX7,HD7,HJ7) -> 0 | HQ7: =SUM(HK7,HE7,GY7,GS7,GM7,GA7,GG7,FU7,FO7) -> 0 | HR7: =SUM(HL7,HF7,GZ7,GT7,GN7,GB7,GH7,FV7,FP7) -> 5 | HS7: =SUM(HM7,HG7,HA7,GU7,GO7,GC7,GI7,FW7,FQ7) -> 0 | HT7: =SUM(HO7:HS7) -> 5 | HZ7: =SUM(HU7:HY7) -> 0 | IB7: 128.01752 | ID7: 0.5 | IF7: =SUM(IA7:IE7) -> 128.51752 | IG7: 78.017629 | IH7: 7.5922686 | IJ7: 1.75 | IL7: =SUM(IG7:IK7) -> 87.359897 | IM7: =SUM(HU7,IA7,IG7) -> 78.017629 | IN7: =SUM(HV7,IB7,IH7) -> 135.60979 | IO7: =SUM(HW7,IC7,II7) -> 0 | IP7: =SUM(HX7,ID7,IJ7) -> 2.25 | IQ7: =SUM(HY7,IE7,IK7) -> 0 | IR7: =SUM(IM7:IQ7) -> 215.87742 | IX7: =SUM(IS7:IW7) -> 0 | IZ7: 8801.86 | JD7: =SUM(IY7:JC7) -> 8801.86 | JJ7: =SUM(JE7:JI7) -> 0 | JK7: =SUM(IS7,IY7,JE7) -> 0 | JL7: =SUM(IT7,IZ7,JF7) -> 8801.86 | JM7: =SUM(IU7,JA7,JG7) -> 0 | JN7: =SUM(IV7,JB7,JH7) -> 0 | JO7: =SUM(IW7,JC7,JI7) -> 0 | JP7: =SUM(JK7:JO7) -> 8801.86 | JR7: =SUM(T7,BD7,CB7,DJ7,FG7,HO7,IM7,JK7) -> 2549.6774 | JS7: =SUM(U7,BE7,CC7,DK7,FH7,HP7,IN7,JL7) -> 13569.785 | JT7: =SUM(V7,BF7,CD7,DL7,FI7,HQ7,IO7,JM7) -> 2384.3965 | JU7: =SUM(W7,BG7,CE7,DM7,FJ7,HR7,IP7,JN7) -> 727.61995 | JV7: =SUM(X7,BH7,CF7,DN7,FK7,HS7,IQ7,JO7) -> 114.50137 | JW7: =SUM(DO7) -> 0 | JX7: =SUM(JR7:JW7) -> 19345.98
A8: IBB=Western Balsam Bark Beetle | B8: 321.40379 | C8: 83.131312 | D8: 15.11818 | E8: 8.75 | G8: =SUM(B8:F8) -> 428.40328 | H8: 50.87014 | I8: 14.802027 | K8: 19.75 | M8: =SUM(H8:L8) -> 85.422166 | N8: 21.633621 | Q8: 2.25 | S8: =SUM(N8:R8) -> 23.883621 | T8: =SUM(B8,H8,N8) -> 393.90755 | U8: =SUM(C8,I8,O8) -> 97.933339 | V8: =SUM(D8,J8,P8) -> 15.11818 | W8: =SUM(E8,K8,Q8) -> 30.75 | X8: =SUM(F8,L8,R8) -> 0 | Y8: =SUM(T8:X8) -> 537.70907 | AC8: 2.25 | AE8: =SUM(Z8:AD8) -> 2.25 | AF8: 181.11169 | AG8: 10.591158 | AI8: 2.5 | AK8: =SUM(AF8:AJ8) -> 194.20285 | AL8: 3758.0898 | AM8: 404.69917 | AO8: 12.5 | AQ8: =SUM(AL8:AP8) -> 4175.289 | AW8: =SUM(AR8:AV8) -> 0 | AX8: 57.740532 | AY8: 5.4459649 | BA8: 5 | BC8: =SUM(AX8:BB8) -> 68.186497 | BD8: =SUM(Z8,AF8,AL8,AR8,AX8) -> 3996.9421 | BE8: =SUM(AA8,AG8,AM8,AS8,AY8) -> 420.73629 | BF8: =SUM(AB8,AH8,AN8,AT8,AZ8) -> 0 | BG8: =SUM(AC8,AI8,AO8,AU8,BA8) -> 22.25 | BH8: =SUM(AD8,AJ8,AP8,AV8,BB8) -> 0 | BI8: =SUM(BD8:BH8) -> 4439.9284 | BJ8: 3624.9198 | BK8: 1018.3817 | BL8: 634.70552 | BM8: 6 | BO8: =SUM(BJ8:BN8) -> 5284.007 | BP8: 12456.065 | BQ8: 166.58536 | BS8: 7.25 | BU8: =SUM(BP8:BT8) -> 12629.901 | BV8: 19798.274 | BW8: 6756.3286 | BX8: 342.06148 | BY8: 14.5 | CA8: =SUM(BV8:BZ8) -> 26911.164 | CB8: =SUM(BJ8,BP8,BV8) -> 35879.259 | CC8: =SUM(BK8,BQ8,BW8) -> 7941.2956 | CD8: =SUM(BL8,BR8,BX8) -> 976.767 | CE8: =SUM(BM8,BS8,BY8) -> 27.75 | CF8: =SUM(BN8,BT8,BZ8) -> 0 | CG8: =SUM(CB8:CF8) -> 44825.071 | CH8: 51474.951 | CI8: 1724.4212 | CJ8: 9.6727489 | CN8: =SUM(CH8:CM8) -> 53209.045 | CO8: 1253.7202 | CP8: 15.313832 | CQ8: 4.6659753 | CU8: =SUM(CO8:CT8) -> 1273.7 | CV8: 3154.9239 | CW8: 46.574451 | CX8: 4.5143188 | DB8: =SUM(CV8:DA8) -> 3206.0127 | DC8: 52916.56 | DD8: 120.42355 | DI8: =SUM(DC8:DH8) -> 53036.984 | DJ8: =SUM(CH8,CO8,CV8,DC8) -> 108800.15 | DK8: =SUM(CI8,CP8,CW8,DD8) -> 1906.7331 | DL8: =SUM(CJ8,CQ8,CX8,DE8) -> 18.853043 | DM8: =SUM(CK8,CR8,CY8,DF8) -> 0 | DN8: =SUM(CL8,CS8,CZ8,DG8) -> 0 | DO8: =SUM(CM8,CT8,DA8,DH8) -> 0 | DP8: =SUM(DJ8:DO8) -> 110725.74 | DQ8: 1498.1379 | DR8: 21.659592 | DT8: 6 | DV8: =SUM(DQ8:DU8) -> 1525.7975 | DW8: 130.13083 | DZ8: 0.5 | EB8: =SUM(DW8:EA8) -> 130.63083 | EC8: 878.43378 | ED8: 87.66969 | EE8: 0.81362082 | EF8: 2.75 | EH8: =SUM(EC8:EG8) -> 969.66709 | EI8: 771.99305 | EJ8: 98.446937 | EK8: 20.799414 | EL8: 0.25 | EN8: =SUM(EI8:EM8) -> 891.4894 | EO8: 573.12104 | EP8: 55.735571 | EQ8: 26.326631 | ER8: 0.75 | ET8: =SUM(EO8:ES8) -> 655.93324 | EU8: 584.50761 | EV8: 375.82188 | EX8: 3.5 | EZ8: =SUM(EU8:EY8) -> 963.82949 | FA8: 115.87686 | FF8: =SUM(FA8:FE8) -> 115.87686 | FG8: =SUM(DQ8,DW8,EC8,EI8,EO8,EU8,FA8) -> 4552.2011 | FH8: =SUM(DR8,DX8,ED8,EJ8,EP8,EV8,FB8) -> 639.33367 | FI8: =SUM(DS8,DY8,EE8,EK8,EQ8,EW8,FC8) -> 47.939666 | FJ8: =SUM(DT8,DZ8,EF8,EL8,ER8,EX8,FD8) -> 13.75 | FK8: =SUM(DU8,EA8,EG8,EM8,ES8,EY8,FE8) -> 0 | FL8: =SUM(FG8:FK8) -> 5253.2244 | FM8: 7859.4612 | FN8: 556.16026 | FP8: 52 | FR8: =SUM(FM8:FQ8) -> 8467.6215 | FV8: 1 | FX8: =SUM(FS8:FW8) -> 1 | FY8: 85.020032 | GB8: 4.75 | GD8: =SUM(FY8:GC8) -> 89.770032 | GE8: 1394.6094 | GH8: 7.75 | GJ8: =SUM(GE8:GI8) -> 1402.3594 | GK8: 10029.173 | GL8: 2321.6974 | GN8: 65.75 | GP8: =SUM(GK8:GO8) -> 12416.621 | GQ8: 10647.738 | GR8: 82.715742 | GT8: 51.5 | GV8: =SUM(GQ8:GU8) -> 10781.954 | GW8: 31375.001 | GX8: 185.42723 | GY8: 585.50502 | GZ8: 48.5 | HB8: =SUM(GW8:HA8) -> 32194.433 | HH8: =SUM(HC8:HG8) -> 0 | HN8: =SUM(HI8:HM8) -> 0 | HO8: =SUM(FM8,FS8,FY8,GE8,GK8,GQ8,GW8,HC8,HI8) -> 61391.003 | HP8: =SUM(FN8,FT8,FZ8,GF8,GL8,GR8,GX8,HD8,HJ8) -> 3146.0006 | HQ8: =SUM(HK8,HE8,GY8,GS8,GM8,GA8,GG8,FU8,FO8) -> 585.50502 | HR8: =SUM(HL8,HF8,GZ8,GT8,GN8,GB8,GH8,FV8,FP8) -> 231.25 | HS8: =SUM(HM8,HG8,HA8,GU8,GO8,GC8,GI8,FW8,FQ8) -> 0 | HT8: =SUM(HO8:HS8) -> 65353.759 | HU8: 21815.572 | HV8: 1915.0172 | HX8: 108.25 | HZ8: =SUM(HU8:HY8) -> 23838.839 | IA8: 8742.5209 | IB8: 771.25429 | IC8: 30.749081 | ID8: 26.25 | IF8: =SUM(IA8:IE8) -> 9570.7743 | IG8: 41973.921 | IH8: 2589.9731 | IJ8: 218 | IL8: =SUM(IG8:IK8) -> 44781.895 | IM8: =SUM(HU8,IA8,IG8) -> 72532.014 | IN8: =SUM(HV8,IB8,IH8) -> 5276.2446 | IO8: =SUM(HW8,IC8,II8) -> 30.749081 | IP8: =SUM(HX8,ID8,IJ8) -> 352.5 | IQ8: =SUM(HY8,IE8,IK8) -> 0 | IR8: =SUM(IM8:IQ8) -> 78191.508 | IS8: 3129.8024 | IT8: 22.397035 | IV8: 40.75 | IX8: =SUM(IS8:IW8) -> 3192.9495 | IY8: 3616.0318 | IZ8: 7921.4323 | JB8: 47.75 | JD8: =SUM(IY8:JC8) -> 11585.214 | JE8: 1556.6511 | JF8: 41.028548 | JH8: 8.25 | JJ8: =SUM(JE8:JI8) -> 1605.9296 | JK8: =SUM(IS8,IY8,JE8) -> 8302.4853 | JL8: =SUM(IT8,IZ8,JF8) -> 7984.8579 | JM8: =SUM(IU8,JA8,JG8) -> 0 | JN8: =SUM(IV8,JB8,JH8) -> 96.75 | JO8: =SUM(IW8,JC8,JI8) -> 0 | JP8: =SUM(JK8:JO8) -> 16384.093 | JR8: =SUM(T8,BD8,CB8,DJ8,FG8,HO8,IM8,JK8) -> 295847.97 | JS8: =SUM(U8,BE8,CC8,DK8,FH8,HP8,IN8,JL8) -> 27413.135 | JT8: =SUM(V8,BF8,CD8,DL8,FI8,HQ8,IO8,JM8) -> 1674.932 | JU8: =SUM(W8,BG8,CE8,DM8,FJ8,HR8,IP8,JN8) -> 775 | JV8: =SUM(X8,BH8,CF8,DN8,FK8,HS8,IQ8,JO8) -> 0 | JW8: =SUM(DO8) -> 0 | JX8: =SUM(JR8:JW8) -> 325711.03
A9: IBD=Douglas-fir Beetle | B9: 29.54332 | C9: 68.844326 | D9: 1546.1476 | E9: 47.445785 | G9: =SUM(B9:F9) -> 1691.981 | H9: 13.13265 | J9: 4.7045266 | K9: 5.5 | M9: =SUM(H9:L9) -> 23.337176 | N9: 48.443718 | O9: 276.89884 | P9: 73.200968 | Q9: 94.924692 | S9: =SUM(N9:R9) -> 493.46822 | T9: =SUM(B9,H9,N9) -> 91.119688 | U9: =SUM(C9,I9,O9) -> 345.74316 | V9: =SUM(D9,J9,P9) -> 1624.0531 | W9: =SUM(E9,K9,Q9) -> 147.87048 | X9: =SUM(F9,L9,R9) -> 0 | Y9: =SUM(T9:X9) -> 2208.7864 | AA9: 76.577205 | AB9: 1.7531625 | AC9: 18.25 | AE9: =SUM(Z9:AD9) -> 96.580367 | AF9: 29.884023 | AG9: 51.554819 | AI9: 5 | AK9: =SUM(AF9:AJ9) -> 86.438842 | AM9: 7.4663468 | AO9: 3.5 | AQ9: =SUM(AL9:AP9) -> 10.966347 | AW9: =SUM(AR9:AV9) -> 0 | AX9: 58.974309 | BA9: 11.395637 | BC9: =SUM(AX9:BB9) -> 70.369946 | BD9: =SUM(Z9,AF9,AL9,AR9,AX9) -> 88.858331 | BE9: =SUM(AA9,AG9,AM9,AS9,AY9) -> 135.59837 | BF9: =SUM(AB9,AH9,AN9,AT9,AZ9) -> 1.7531625 | BG9: =SUM(AC9,AI9,AO9,AU9,BA9) -> 38.145637 | BH9: =SUM(AD9,AJ9,AP9,AV9,BB9) -> 0 | BI9: =SUM(BD9:BH9) -> 264.3555 | BJ9: 35.423936 | BK9: 143.6329 | BL9: 5.0279159 | BM9: 53.25 | BO9: =SUM(BJ9:BN9) -> 237.33475 | BQ9: 195.56705 | BR9: 71.451306 | BS9: 21.25 | BU9: =SUM(BP9:BT9) -> 288.26835 | BV9: 733.66421 | BW9: 1290.1396 | BX9: 79.051541 | BY9: 200.25 | CA9: =SUM(BV9:BZ9) -> 2303.1053 | CB9: =SUM(BJ9,BP9,BV9) -> 769.08815 | CC9: =SUM(BK9,BQ9,BW9) -> 1629.3395 | CD9: =SUM(BL9,BR9,BX9) -> 155.53076 | CE9: =SUM(BM9,BS9,BY9) -> 274.75 | CF9: =SUM(BN9,BT9,BZ9) -> 0 | CG9: =SUM(CB9:CF9) -> 2828.7084 | CI9: 232.92778 | CJ9: 306.50449 | CK9: 126.7564 | CL9: 13.913754 | CN9: =SUM(CH9:CM9) -> 680.10243 | CO9: 3.5869344 | CP9: 427.40496 | CQ9: 111.05358 | CR9: 61.069374 | CS9: 4.1885322 | CU9: =SUM(CO9:CT9) -> 607.30338 | CV9: 46.792982 | CW9: 17.976263 | CX9: 14.716367 | CY9: 14.157265 | DB9: =SUM(CV9:DA9) -> 93.642877 | DD9: 87.656741 | DE9: 159.17761 | DF9: 99.873157 | DG9: 3.6385931 | DI9: =SUM(DC9:DH9) -> 350.34611 | DJ9: =SUM(CH9,CO9,CV9,DC9) -> 50.379917 | DK9: =SUM(CI9,CP9,CW9,DD9) -> 765.96575 | DL9: =SUM(CJ9,CQ9,CX9,DE9) -> 591.45205 | DM9: =SUM(CK9,CR9,CY9,DF9) -> 301.8562 | DN9: =SUM(CL9,CS9,CZ9,DG9) -> 21.740879 | DO9: =SUM(CM9,CT9,DA9,DH9) -> 0 | DP9: =SUM(DJ9:DO9) -> 1731.3948 | DR9: 33.147162 | DS9: 38.803574 | DT9: 6.25 | DV9: =SUM(DQ9:DU9) -> 78.200736 | DZ9: 2 | EB9: =SUM(DW9:EA9) -> 2 | EC9: 10.780625 | ED9: 129.20262 | EE9: 98.3631 | EF9: 66.522063 | EH9: =SUM(EC9:EG9) -> 304.86841 | EI9: 79.656813 | EJ9: 171.2724 | EK9: 6.2433843 | EL9: 3.5 | EN9: =SUM(EI9:EM9) -> 260.6726 | EP9: 40.729316 | EQ9: 381.09803 | ER9: 17.934565 | ET9: =SUM(EO9:ES9) -> 439.76191 | EU9: 13.422941 | EV9: 332.20296 | EW9: 15.656825 | EX9: 11.75 | EZ9: =SUM(EU9:EY9) -> 373.03272 | FB9: 40.639378 | FD9: 0.75 | FF9: =SUM(FA9:FE9) -> 41.389378 | FG9: =SUM(DQ9,DW9,EC9,EI9,EO9,EU9,FA9) -> 103.86038 | FH9: =SUM(DR9,DX9,ED9,EJ9,EP9,EV9,FB9) -> 747.19384 | FI9: =SUM(DS9,DY9,EE9,EK9,EQ9,EW9,FC9) -> 540.16492 | FJ9: =SUM(DT9,DZ9,EF9,EL9,ER9,EX9,FD9) -> 108.70663 | FK9: =SUM(DU9,EA9,EG9,EM9,ES9,EY9,FE9) -> 0 | FL9: =SUM(FG9:FK9) -> 1499.9258 | FR9: =SUM(FM9:FQ9) -> 0 | FX9: =SUM(FS9:FW9) -> 0 | GD9: =SUM(FY9:GC9) -> 0 | GJ9: =SUM(GE9:GI9) -> 0 | GP9: =SUM(GK9:GO9) -> 0 | GR9: 136.07073 | GT9: 2.25 | GV9: =SUM(GQ9:GU9) -> 138.32073 | HB9: =SUM(GW9:HA9) -> 0 | HH9: =SUM(HC9:HG9) -> 0 | HN9: =SUM(HI9:HM9) -> 0 | HO9: =SUM(FM9,FS9,FY9,GE9,GK9,GQ9,GW9,HC9,HI9) -> 0 | HP9: =SUM(FN9,FT9,FZ9,GF9,GL9,GR9,GX9,HD9,HJ9) -> 136.07073 | HQ9: =SUM(HK9,HE9,GY9,GS9,GM9,GA9,GG9,FU9,FO9) -> 0 | HR9: =SUM(HL9,HF9,GZ9,GT9,GN9,GB9,GH9,FV9,FP9) -> 2.25 | HS9: =SUM(HM9,HG9,HA9,GU9,GO9,GC9,GI9,FW9,FQ9) -> 0 | HT9: =SUM(HO9:HS9) -> 138.32073 | HZ9: =SUM(HU9:HY9) -> 0 | IF9: =SUM(IA9:IE9) -> 0 | IH9: 86.649707 | II9: 62.213795 | IJ9: 46 | IL9: =SUM(IG9:IK9) -> 194.8635 | IM9: =SUM(HU9,IA9,IG9) -> 0 | IN9: =SUM(HV9,IB9,IH9) -> 86.649707 | IO9: =SUM(HW9,IC9,II9) -> 62.213795 | IP9: =SUM(HX9,ID9,IJ9) -> 46 | IQ9: =SUM(HY9,IE9,IK9) -> 0 | IR9: =SUM(IM9:IQ9) -> 194.8635 | IX9: =SUM(IS9:IW9) -> 0 | JD9: =SUM(IY9:JC9) -> 0 | JJ9: =SUM(JE9:JI9) -> 0 | JK9: =SUM(IS9,IY9,JE9) -> 0 | JL9: =SUM(IT9,IZ9,JF9) -> 0 | JM9: =SUM(IU9,JA9,JG9) -> 0 | JN9: =SUM(IV9,JB9,JH9) -> 0 | JO9: =SUM(IW9,JC9,JI9) -> 0 | JP9: =SUM(JK9:JO9) -> 0 | JR9: =SUM(T9,BD9,CB9,DJ9,FG9,HO9,IM9,JK9) -> 1103.3065 | JS9: =SUM(U9,BE9,CC9,DK9,FH9,HP9,IN9,JL9) -> 3846.5611 | JT9: =SUM(V9,BF9,CD9,DL9,FI9,HQ9,IO9,JM9) -> 2975.1678 | JU9: =SUM(W9,BG9,CE9,DM9,FJ9,HR9,IP9,JN9) -> 919.57894 | JV9: =SUM(X9,BH9,CF9,DN9,FK9,HS9,IQ9,JO9) -> 21.740879 | JW9: =SUM(DO9) -> 0 | JX9: =SUM(JR9:JW9) -> 8866.3551
A10: IBF = Fir engraver Beetle | G10: =SUM(B10:F10) -> 0 | M10: =SUM(H10:L10) -> 0 | S10: =SUM(N10:R10) -> 0 | T10: =SUM(B10,H10,N10) -> 0 | U10: =SUM(C10,I10,O10) -> 0 | V10: =SUM(D10,J10,P10) -> 0 | W10: =SUM(E10,K10,Q10) -> 0 | X10: =SUM(F10,L10,R10) -> 0 | Y10: =SUM(T10:X10) -> 0 | AE10: =SUM(Z10:AD10) -> 0 | AK10: =SUM(AF10:AJ10) -> 0 | AQ10: =SUM(AL10:AP10) -> 0 | AW10: =SUM(AR10:AV10) -> 0 | BC10: =SUM(AX10:BB10) -> 0 | BD10: =SUM(Z10,AF10,AL10,AR10,AX10) -> 0 | BE10: =SUM(AA10,AG10,AM10,AS10,AY10) -> 0 | BF10: =SUM(AB10,AH10,AN10,AT10,AZ10) -> 0 | BG10: =SUM(AC10,AI10,AO10,AU10,BA10) -> 0 | BH10: =SUM(AD10,AJ10,AP10,AV10,BB10) -> 0 | BI10: =SUM(BD10:BH10) -> 0 | BO10: =SUM(BJ10:BN10) -> 0 | BU10: =SUM(BP10:BT10) -> 0 | CA10: =SUM(BV10:BZ10) -> 0 | CB10: =SUM(BJ10,BP10,BV10) -> 0 | CC10: =SUM(BK10,BQ10,BW10) -> 0 | CD10: =SUM(BL10,BR10,BX10) -> 0 | CE10: =SUM(BM10,BS10,BY10) -> 0 | CF10: =SUM(BN10,BT10,BZ10) -> 0 | CG10: =SUM(CB10:CF10) -> 0 | CN10: =SUM(CH10:CM10) -> 0 | CU10: =SUM(CO10:CT10) -> 0 | DB10: =SUM(CV10:DA10) -> 0 | DI10: =SUM(DC10:DH10) -> 0 | DJ10: =SUM(CH10,CO10,CV10,DC10) -> 0 | DK10: =SUM(CI10,CP10,CW10,DD10) -> 0 | DL10: =SUM(CJ10,CQ10,CX10,DE10) -> 0 | DM10: =SUM(CK10,CR10,CY10,DF10) -> 0 | DN10: =SUM(CL10,CS10,CZ10,DG10) -> 0 | DO10: =SUM(CM10,CT10,DA10,DH10) -> 0 | DP10: =SUM(DJ10:DO10) -> 0 | DV10: =SUM(DQ10:DU10) -> 0 | EB10: =SUM(DW10:EA10) -> 0 | EH10: =SUM(EC10:EG10) -> 0 | EN10: =SUM(EI10:EM10) -> 0 | ET10: =SUM(EO10:ES10) -> 0 | EZ10: =SUM(EU10:EY10) -> 0 | FF10: =SUM(FA10:FE10) -> 0 | FG10: =SUM(DQ10,DW10,EC10,EI10,EO10,EU10,FA10) -> 0 | FH10: =SUM(DR10,DX10,ED10,EJ10,EP10,EV10,FB10) -> 0 | FI10: =SUM(DS10,DY10,EE10,EK10,EQ10,EW10,FC10) -> 0 | FJ10: =SUM(DT10,DZ10,EF10,EL10,ER10,EX10,FD10) -> 0 | FK10: =SUM(DU10,EA10,EG10,EM10,ES10,EY10,FE10) -> 0 | FL10: =SUM(FG10:FK10) -> 0 | FR10: =SUM(FM10:FQ10) -> 0 | FX10: =SUM(FS10:FW10) -> 0 | GD10: =SUM(FY10:GC10) -> 0 | GJ10: =SUM(GE10:GI10) -> 0 | GP10: =SUM(GK10:GO10) -> 0 | GV10: =SUM(GQ10:GU10) -> 0 | HB10: =SUM(GW10:HA10) -> 0 | HH10: =SUM(HC10:HG10) -> 0 | HN10: =SUM(HI10:HM10) -> 0 | HO10: =SUM(FM10,FS10,FY10,GE10,GK10,GQ10,GW10,HC10,HI10) -> 0 | HP10: =SUM(FN10,FT10,FZ10,GF10,GL10,GR10,GX10,HD10,HJ10) -> 0 | HQ10: =SUM(HK10,HE10,GY10,GS10,GM10,GA10,GG10,FU10,FO10) -> 0 | HR10: =SUM(HL10,HF10,GZ10,GT10,GN10,GB10,GH10,FV10,FP10) -> 0 | HS10: =SUM(HM10,HG10,HA10,GU10,GO10,GC10,GI10,FW10,FQ10) -> 0 | HT10: =SUM(HO10:HS10) -> 0 | HZ10: =SUM(HU10:HY10) -> 0 | IF10: =SUM(IA10:IE10) -> 0 | IL10: =SUM(IG10:IK10) -> 0 | IM10: =SUM(HU10,IA10,IG10) -> 0 | IN10: =SUM(HV10,IB10,IH10) -> 0 | IO10: =SUM(HW10,IC10,II10) -> 0 | IP10: =SUM(HX10,ID10,IJ10) -> 0 | IQ10: =SUM(HY10,IE10,IK10) -> 0 | IR10: =SUM(IM10:IQ10) -> 0 | IX10: =SUM(IS10:IW10) -> 0 | JD10: =SUM(IY10:JC10) -> 0 | JJ10: =SUM(JE10:JI10) -> 0 | JK10: =SUM(IS10,IY10,JE10) -> 0 | JL10: =SUM(IT10,IZ10,JF10) -> 0 | JM10: =SUM(IU10,JA10,JG10) -> 0 | JN10: =SUM(IV10,JB10,JH10) -> 0 | JO10: =SUM(IW10,JC10,JI10) -> 0 | JP10: =SUM(JK10:JO10) -> 0 | JR10: =SUM(T10,BD10,CB10,DJ10,FG10,HO10,IM10,JK10) -> 0 | JS10: =SUM(U10,BE10,CC10,DK10,FH10,HP10,IN10,JL10) -> 0 | JT10: =SUM(V10,BF10,CD10,DL10,FI10,HQ10,IO10,JM10) -> 0 | JU10: =SUM(W10,BG10,CE10,DM10,FJ10,HR10,IP10,JN10) -> 0 | JV10: =SUM(X10,BH10,CF10,DN10,FK10,HS10,IQ10,JO10) -> 0 | JW10: =SUM(DO10) -> 0 | JX10: =SUM(JR10:JW10) -> 0
A11: IBP = Twig Beetle | G11: =SUM(B11:F11) -> 0 | M11: =SUM(H11:L11) -> 0 | S11: =SUM(N11:R11) -> 0 | T11: =SUM(B11,H11,N11) -> 0 | U11: =SUM(C11,I11,O11) -> 0 | V11: =SUM(D11,J11,P11) -> 0 | W11: =SUM(E11,K11,Q11) -> 0 | X11: =SUM(F11,L11,R11) -> 0 | Y11: =SUM(T11:X11) -> 0 | AE11: =SUM(Z11:AD11) -> 0 | AK11: =SUM(AF11:AJ11) -> 0 | AQ11: =SUM(AL11:AP11) -> 0 | AW11: =SUM(AR11:AV11) -> 0 | BC11: =SUM(AX11:BB11) -> 0 | BD11: =SUM(Z11,AF11,AL11,AR11,AX11) -> 0 | BE11: =SUM(AA11,AG11,AM11,AS11,AY11) -> 0 | BF11: =SUM(AB11,AH11,AN11,AT11,AZ11) -> 0 | BG11: =SUM(AC11,AI11,AO11,AU11,BA11) -> 0 | BH11: =SUM(AD11,AJ11,AP11,AV11,BB11) -> 0 | BI11: =SUM(BD11:BH11) -> 0 | BO11: =SUM(BJ11:BN11) -> 0 | BU11: =SUM(BP11:BT11) -> 0 | CA11: =SUM(BV11:BZ11) -> 0 | CB11: =SUM(BJ11,BP11,BV11) -> 0 | CC11: =SUM(BK11,BQ11,BW11) -> 0 | CD11: =SUM(BL11,BR11,BX11) -> 0 | CE11: =SUM(BM11,BS11,BY11) -> 0 | CF11: =SUM(BN11,BT11,BZ11) -> 0 | CG11: =SUM(CB11:CF11) -> 0 | CN11: =SUM(CH11:CM11) -> 0 | CU11: =SUM(CO11:CT11) -> 0 | DB11: =SUM(CV11:DA11) -> 0 | DI11: =SUM(DC11:DH11) -> 0 | DJ11: =SUM(CH11,CO11,CV11,DC11) -> 0 | DK11: =SUM(CI11,CP11,CW11,DD11) -> 0 | DL11: =SUM(CJ11,CQ11,CX11,DE11) -> 0 | DM11: =SUM(CK11,CR11,CY11,DF11) -> 0 | DN11: =SUM(CL11,CS11,CZ11,DG11) -> 0 | DO11: =SUM(CM11,CT11,DA11,DH11) -> 0 | DP11: =SUM(DJ11:DO11) -> 0 | DV11: =SUM(DQ11:DU11) -> 0 | EB11: =SUM(DW11:EA11) -> 0 | EH11: =SUM(EC11:EG11) -> 0 | EN11: =SUM(EI11:EM11) -> 0 | ET11: =SUM(EO11:ES11) -> 0 | EZ11: =SUM(EU11:EY11) -> 0 | FF11: =SUM(FA11:FE11) -> 0 | FG11: =SUM(DQ11,DW11,EC11,EI11,EO11,EU11,FA11) -> 0 | FH11: =SUM(DR11,DX11,ED11,EJ11,EP11,EV11,FB11) -> 0 | FI11: =SUM(DS11,DY11,EE11,EK11,EQ11,EW11,FC11) -> 0 | FJ11: =SUM(DT11,DZ11,EF11,EL11,ER11,EX11,FD11) -> 0 | FK11: =SUM(DU11,EA11,EG11,EM11,ES11,EY11,FE11) -> 0 | FL11: =SUM(FG11:FK11) -> 0 | FR11: =SUM(FM11:FQ11) -> 0 | FX11: =SUM(FS11:FW11) -> 0 | GD11: =SUM(FY11:GC11) -> 0 | GJ11: =SUM(GE11:GI11) -> 0 | GP11: =SUM(GK11:GO11) -> 0 | GV11: =SUM(GQ11:GU11) -> 0 | HB11: =SUM(GW11:HA11) -> 0 | HH11: =SUM(HC11:HG11) -> 0 | HN11: =SUM(HI11:HM11) -> 0 | HO11: =SUM(FM11,FS11,FY11,GE11,GK11,GQ11,GW11,HC11,HI11) -> 0 | HP11: =SUM(FN11,FT11,FZ11,GF11,GL11,GR11,GX11,HD11,HJ11) -> 0 | HQ11: =SUM(HK11,HE11,GY11,GS11,GM11,GA11,GG11,FU11,FO11) -> 0 | HR11: =SUM(HL11,HF11,GZ11,GT11,GN11,GB11,GH11,FV11,FP11) -> 0 | HS11: =SUM(HM11,HG11,HA11,GU11,GO11,GC11,GI11,FW11,FQ11) -> 0 | HT11: =SUM(HO11:HS11) -> 0 | HZ11: =SUM(HU11:HY11) -> 0 | IF11: =SUM(IA11:IE11) -> 0 | IL11: =SUM(IG11:IK11) -> 0 | IM11: =SUM(HU11,IA11,IG11) -> 0 | IN11: =SUM(HV11,IB11,IH11) -> 0 | IO11: =SUM(HW11,IC11,II11) -> 0 | IP11: =SUM(HX11,ID11,IJ11) -> 0 | IQ11: =SUM(HY11,IE11,IK11) -> 0 | IR11: =SUM(IM11:IQ11) -> 0 | IX11: =SUM(IS11:IW11) -> 0 | JD11: =SUM(IY11:JC11) -> 0 | JJ11: =SUM(JE11:JI11) -> 0 | JK11: =SUM(IS11,IY11,JE11) -> 0 | JL11: =SUM(IT11,IZ11,JF11) -> 0 | JM11: =SUM(IU11,JA11,JG11) -> 0 | JN11: =SUM(IV11,JB11,JH11) -> 0 | JO11: =SUM(IW11,JC11,JI11) -> 0 | JP11: =SUM(JK11:JO11) -> 0 | JR11: =SUM(T11,BD11,CB11,DJ11,FG11,HO11,IM11,JK11) -> 0 | JS11: =SUM(U11,BE11,CC11,DK11,FH11,HP11,IN11,JL11) -> 0 | JT11: =SUM(V11,BF11,CD11,DL11,FI11,HQ11,IO11,JM11) -> 0 | JU11: =SUM(W11,BG11,CE11,DM11,FJ11,HR11,IP11,JN11) -> 0 | JV11: =SUM(X11,BH11,CF11,DN11,FK11,HS11,IQ11,JO11) -> 0 | JW11: =SUM(DO11) -> 0 | JX11: =SUM(JR11:JW11) -> 0
A12: IBI=Engraver Beetle (Ips species) | G12: =SUM(B12:F12) -> 0 | M12: =SUM(H12:L12) -> 0 | S12: =SUM(N12:R12) -> 0 | T12: =SUM(B12,H12,N12) -> 0 | U12: =SUM(C12,I12,O12) -> 0 | V12: =SUM(D12,J12,P12) -> 0 | W12: =SUM(E12,K12,Q12) -> 0 | X12: =SUM(F12,L12,R12) -> 0 | Y12: =SUM(T12:X12) -> 0 | AE12: =SUM(Z12:AD12) -> 0 | AK12: =SUM(AF12:AJ12) -> 0 | AQ12: =SUM(AL12:AP12) -> 0 | AW12: =SUM(AR12:AV12) -> 0 | BC12: =SUM(AX12:BB12) -> 0 | BD12: =SUM(Z12,AF12,AL12,AR12,AX12) -> 0 | BE12: =SUM(AA12,AG12,AM12,AS12,AY12) -> 0 | BF12: =SUM(AB12,AH12,AN12,AT12,AZ12) -> 0 | BG12: =SUM(AC12,AI12,AO12,AU12,BA12) -> 0 | BH12: =SUM(AD12,AJ12,AP12,AV12,BB12) -> 0 | BI12: =SUM(BD12:BH12) -> 0 | BO12: =SUM(BJ12:BN12) -> 0 | BU12: =SUM(BP12:BT12) -> 0 | BV12: 8.2599398 | BY12: 0.5 | CA12: =SUM(BV12:BZ12) -> 8.7599398 | CB12: =SUM(BJ12,BP12,BV12) -> 8.2599398 | CC12: =SUM(BK12,BQ12,BW12) -> 0 | CD12: =SUM(BL12,BR12,BX12) -> 0 | CE12: =SUM(BM12,BS12,BY12) -> 0.5 | CF12: =SUM(BN12,BT12,BZ12) -> 0 | CG12: =SUM(CB12:CF12) -> 8.7599398 | CN12: =SUM(CH12:CM12) -> 0 | CU12: =SUM(CO12:CT12) -> 0 | DB12: =SUM(CV12:DA12) -> 0 | DI12: =SUM(DC12:DH12) -> 0 | DJ12: =SUM(CH12,CO12,CV12,DC12) -> 0 | DK12: =SUM(CI12,CP12,CW12,DD12) -> 0 | DL12: =SUM(CJ12,CQ12,CX12,DE12) -> 0 | DM12: =SUM(CK12,CR12,CY12,DF12) -> 0 | DN12: =SUM(CL12,CS12,CZ12,DG12) -> 0 | DO12: =SUM(CM12,CT12,DA12,DH12) -> 0 | DP12: =SUM(DJ12:DO12) -> 0 | DV12: =SUM(DQ12:DU12) -> 0 | EB12: =SUM(DW12:EA12) -> 0 | EH12: =SUM(EC12:EG12) -> 0 | EN12: =SUM(EI12:EM12) -> 0 | ET12: =SUM(EO12:ES12) -> 0 | EZ12: =SUM(EU12:EY12) -> 0 | FF12: =SUM(FA12:FE12) -> 0 | FG12: =SUM(DQ12,DW12,EC12,EI12,EO12,EU12,FA12) -> 0 | FH12: =SUM(DR12,DX12,ED12,EJ12,EP12,EV12,FB12) -> 0 | FI12: =SUM(DS12,DY12,EE12,EK12,EQ12,EW12,FC12) -> 0 | FJ12: =SUM(DT12,DZ12,EF12,EL12,ER12,EX12,FD12) -> 0 | FK12: =SUM(DU12,EA12,EG12,EM12,ES12,EY12,FE12) -> 0 | FL12: =SUM(FG12:FK12) -> 0 | FR12: =SUM(FM12:FQ12) -> 0 | FX12: =SUM(FS12:FW12) -> 0 | GD12: =SUM(FY12:GC12) -> 0 | GJ12: =SUM(GE12:GI12) -> 0 | GP12: =SUM(GK12:GO12) -> 0 | GV12: =SUM(GQ12:GU12) -> 0 | HB12: =SUM(GW12:HA12) -> 0 | HH12: =SUM(HC12:HG12) -> 0 | HN12: =SUM(HI12:HM12) -> 0 | HO12: =SUM(FM12,FS12,FY12,GE12,GK12,GQ12,GW12,HC12,HI12) -> 0 | HP12: =SUM(FN12,FT12,FZ12,GF12,GL12,GR12,GX12,HD12,HJ12) -> 0 | HQ12: =SUM(HK12,HE12,GY12,GS12,GM12,GA12,GG12,FU12,FO12) -> 0 | HR12: =SUM(HL12,HF12,GZ12,GT12,GN12,GB12,GH12,FV12,FP12) -> 0 | HS12: =SUM(HM12,HG12,HA12,GU12,GO12,GC12,GI12,FW12,FQ12) -> 0 | HT12: =SUM(HO12:HS12) -> 0 | HZ12: =SUM(HU12:HY12) -> 0 | IF12: =SUM(IA12:IE12) -> 0 | IL12: =SUM(IG12:IK12) -> 0 | IM12: =SUM(HU12,IA12,IG12) -> 0 | IN12: =SUM(HV12,IB12,IH12) -> 0 | IO12: =SUM(HW12,IC12,II12) -> 0 | IP12: =SUM(HX12,ID12,IJ12) -> 0 | IQ12: =SUM(HY12,IE12,IK12) -> 0 | IR12: =SUM(IM12:IQ12) -> 0 | IX12: =SUM(IS12:IW12) -> 0 | JD12: =SUM(IY12:JC12) -> 0 | JJ12: =SUM(JE12:JI12) -> 0 | JK12: =SUM(IS12,IY12,JE12) -> 0 | JL12: =SUM(IT12,IZ12,JF12) -> 0 | JM12: =SUM(IU12,JA12,JG12) -> 0 | JN12: =SUM(IV12,JB12,JH12) -> 0 | JO12: =SUM(IW12,JC12,JI12) -> 0 | JP12: =SUM(JK12:JO12) -> 0 | JR12: =SUM(T12,BD12,CB12,DJ12,FG12,HO12,IM12,JK12) -> 8.2599398 | JS12: =SUM(U12,BE12,CC12,DK12,FH12,HP12,IN12,JL12) -> 0 | JT12: =SUM(V12,BF12,CD12,DL12,FI12,HQ12,IO12,JM12) -> 0 | JU12: =SUM(W12,BG12,CE12,DM12,FJ12,HR12,IP12,JN12) -> 0.5 | JV12: =SUM(X12,BH12,CF12,DN12,FK12,HS12,IQ12,JO12) -> 0 | JW12: =SUM(DO12) -> 0 | JX12: =SUM(JR12:JW12) -> 8.7599398
A13: IBW=Western Pine Beetle | G13: =SUM(B13:F13) -> 0 | M13: =SUM(H13:L13) -> 0 | S13: =SUM(N13:R13) -> 0 | T13: =SUM(B13,H13,N13) -> 0 | U13: =SUM(C13,I13,O13) -> 0 | V13: =SUM(D13,J13,P13) -> 0 | W13: =SUM(E13,K13,Q13) -> 0 | X13: =SUM(F13,L13,R13) -> 0 | Y13: =SUM(T13:X13) -> 0 | AE13: =SUM(Z13:AD13) -> 0 | AK13: =SUM(AF13:AJ13) -> 0 | AQ13: =SUM(AL13:AP13) -> 0 | AW13: =SUM(AR13:AV13) -> 0 | BC13: =SUM(AX13:BB13) -> 0 | BD13: =SUM(Z13,AF13,AL13,AR13,AX13) -> 0 | BE13: =SUM(AA13,AG13,AM13,AS13,AY13) -> 0 | BF13: =SUM(AB13,AH13,AN13,AT13,AZ13) -> 0 | BG13: =SUM(AC13,AI13,AO13,AU13,BA13) -> 0 | BH13: =SUM(AD13,AJ13,AP13,AV13,BB13) -> 0 | BI13: =SUM(BD13:BH13) -> 0 | BO13: =SUM(BJ13:BN13) -> 0 | BU13: =SUM(BP13:BT13) -> 0 | CA13: =SUM(BV13:BZ13) -> 0 | CB13: =SUM(BJ13,BP13,BV13) -> 0 | CC13: =SUM(BK13,BQ13,BW13) -> 0 | CD13: =SUM(BL13,BR13,BX13) -> 0 | CE13: =SUM(BM13,BS13,BY13) -> 0 | CF13: =SUM(BN13,BT13,BZ13) -> 0 | CG13: =SUM(CB13:CF13) -> 0 | CN13: =SUM(CH13:CM13) -> 0 | CU13: =SUM(CO13:CT13) -> 0 | DB13: =SUM(CV13:DA13) -> 0 | DI13: =SUM(DC13:DH13) -> 0 | DJ13: =SUM(CH13,CO13,CV13,DC13) -> 0 | DK13: =SUM(CI13,CP13,CW13,DD13) -> 0 | DL13: =SUM(CJ13,CQ13,CX13,DE13) -> 0 | DM13: =SUM(CK13,CR13,CY13,DF13) -> 0 | DN13: =SUM(CL13,CS13,CZ13,DG13) -> 0 | DO13: =SUM(CM13,CT13,DA13,DH13) -> 0 | DP13: =SUM(DJ13:DO13) -> 0 | DV13: =SUM(DQ13:DU13) -> 0 | EB13: =SUM(DW13:EA13) -> 0 | EH13: =SUM(EC13:EG13) -> 0 | EN13: =SUM(EI13:EM13) -> 0 | ET13: =SUM(EO13:ES13) -> 0 | EZ13: =SUM(EU13:EY13) -> 0 | FF13: =SUM(FA13:FE13) -> 0 | FG13: =SUM(DQ13,DW13,EC13,EI13,EO13,EU13,FA13) -> 0 | FH13: =SUM(DR13,DX13,ED13,EJ13,EP13,EV13,FB13) -> 0 | FI13: =SUM(DS13,DY13,EE13,EK13,EQ13,EW13,FC13) -> 0 | FJ13: =SUM(DT13,DZ13,EF13,EL13,ER13,EX13,FD13) -> 0 | FK13: =SUM(DU13,EA13,EG13,EM13,ES13,EY13,FE13) -> 0 | FL13: =SUM(FG13:FK13) -> 0 | FR13: =SUM(FM13:FQ13) -> 0 | FX13: =SUM(FS13:FW13) -> 0 | GD13: =SUM(FY13:GC13) -> 0 | GJ13: =SUM(GE13:GI13) -> 0 | GP13: =SUM(GK13:GO13) -> 0 | GV13: =SUM(GQ13:GU13) -> 0 | HB13: =SUM(GW13:HA13) -> 0 | HH13: =SUM(HC13:HG13) -> 0 | HN13: =SUM(HI13:HM13) -> 0 | HO13: =SUM(FM13,FS13,FY13,GE13,GK13,GQ13,GW13,HC13,HI13) -> 0 | HP13: =SUM(FN13,FT13,FZ13,GF13,GL13,GR13,GX13,HD13,HJ13) -> 0 | HQ13: =SUM(HK13,HE13,GY13,GS13,GM13,GA13,GG13,FU13,FO13) -> 0 | HR13: =SUM(HL13,HF13,GZ13,GT13,GN13,GB13,GH13,FV13,FP13) -> 0 | HS13: =SUM(HM13,HG13,HA13,GU13,GO13,GC13,GI13,FW13,FQ13) -> 0 | HT13: =SUM(HO13:HS13) -> 0 | HZ13: =SUM(HU13:HY13) -> 0 | IF13: =SUM(IA13:IE13) -> 0 | IL13: =SUM(IG13:IK13) -> 0 | IM13: =SUM(HU13,IA13,IG13) -> 0 | IN13: =SUM(HV13,IB13,IH13) -> 0 | IO13: =SUM(HW13,IC13,II13) -> 0 | IP13: =SUM(HX13,ID13,IJ13) -> 0 | IQ13: =SUM(HY13,IE13,IK13) -> 0 | IR13: =SUM(IM13:IQ13) -> 0 | IX13: =SUM(IS13:IW13) -> 0 | JD13: =SUM(IY13:JC13) -> 0 | JJ13: =SUM(JE13:JI13) -> 0 | JK13: =SUM(IS13,IY13,JE13) -> 0 | JL13: =SUM(IT13,IZ13,JF13) -> 0 | JM13: =SUM(IU13,JA13,JG13) -> 0 | JN13: =SUM(IV13,JB13,JH13) -> 0 | JO13: =SUM(IW13,JC13,JI13) -> 0 | JP13: =SUM(JK13:JO13) -> 0 | JR13: =SUM(T13,BD13,CB13,DJ13,FG13,HO13,IM13,JK13) -> 0 | JS13: =SUM(U13,BE13,CC13,DK13,FH13,HP13,IN13,JL13) -> 0 | JT13: =SUM(V13,BF13,CD13,DL13,FI13,HQ13,IO13,JM13) -> 0 | JU13: =SUM(W13,BG13,CE13,DM13,FJ13,HR13,IP13,JN13) -> 0 | JV13: =SUM(X13,BH13,CF13,DN13,FK13,HS13,IQ13,JO13) -> 0 | JW13: =SUM(DO13) -> 0 | JX13: =SUM(JR13:JW13) -> 0
A14: IBL=Lodgepole Pine Beetle | G14: =SUM(B14:F14) -> 0 | M14: =SUM(H14:L14) -> 0 | S14: =SUM(N14:R14) -> 0 | T14: =SUM(B14,H14,N14) -> 0 | U14: =SUM(C14,I14,O14) -> 0 | V14: =SUM(D14,J14,P14) -> 0 | W14: =SUM(E14,K14,Q14) -> 0 | X14: =SUM(F14,L14,R14) -> 0 | Y14: =SUM(T14:X14) -> 0 | AE14: =SUM(Z14:AD14) -> 0 | AK14: =SUM(AF14:AJ14) -> 0 | AQ14: =SUM(AL14:AP14) -> 0 | AW14: =SUM(AR14:AV14) -> 0 | BC14: =SUM(AX14:BB14) -> 0 | BD14: =SUM(Z14,AF14,AL14,AR14,AX14) -> 0 | BE14: =SUM(AA14,AG14,AM14,AS14,AY14) -> 0 | BF14: =SUM(AB14,AH14,AN14,AT14,AZ14) -> 0 | BG14: =SUM(AC14,AI14,AO14,AU14,BA14) -> 0 | BH14: =SUM(AD14,AJ14,AP14,AV14,BB14) -> 0 | BI14: =SUM(BD14:BH14) -> 0 | BO14: =SUM(BJ14:BN14) -> 0 | BU14: =SUM(BP14:BT14) -> 0 | CA14: =SUM(BV14:BZ14) -> 0 | CB14: =SUM(BJ14,BP14,BV14) -> 0 | CC14: =SUM(BK14,BQ14,BW14) -> 0 | CD14: =SUM(BL14,BR14,BX14) -> 0 | CE14: =SUM(BM14,BS14,BY14) -> 0 | CF14: =SUM(BN14,BT14,BZ14) -> 0 | CG14: =SUM(CB14:CF14) -> 0 | CN14: =SUM(CH14:CM14) -> 0 | CU14: =SUM(CO14:CT14) -> 0 | DB14: =SUM(CV14:DA14) -> 0 | DI14: =SUM(DC14:DH14) -> 0 | DJ14: =SUM(CH14,CO14,CV14,DC14) -> 0 | DK14: =SUM(CI14,CP14,CW14,DD14) -> 0 | DL14: =SUM(CJ14,CQ14,CX14,DE14) -> 0 | DM14: =SUM(CK14,CR14,CY14,DF14) -> 0 | DN14: =SUM(CL14,CS14,CZ14,DG14) -> 0 | DO14: =SUM(CM14,CT14,DA14,DH14) -> 0 | DP14: =SUM(DJ14:DO14) -> 0 | DV14: =SUM(DQ14:DU14) -> 0 | EB14: =SUM(DW14:EA14) -> 0 | EH14: =SUM(EC14:EG14) -> 0 | EN14: =SUM(EI14:EM14) -> 0 | ET14: =SUM(EO14:ES14) -> 0 | EZ14: =SUM(EU14:EY14) -> 0 | FF14: =SUM(FA14:FE14) -> 0 | FG14: =SUM(DQ14,DW14,EC14,EI14,EO14,EU14,FA14) -> 0 | FH14: =SUM(DR14,DX14,ED14,EJ14,EP14,EV14,FB14) -> 0 | FI14: =SUM(DS14,DY14,EE14,EK14,EQ14,EW14,FC14) -> 0 | FJ14: =SUM(DT14,DZ14,EF14,EL14,ER14,EX14,FD14) -> 0 | FK14: =SUM(DU14,EA14,EG14,EM14,ES14,EY14,FE14) -> 0 | FL14: =SUM(FG14:FK14) -> 0 | FR14: =SUM(FM14:FQ14) -> 0 | FX14: =SUM(FS14:FW14) -> 0 | GD14: =SUM(FY14:GC14) -> 0 | GJ14: =SUM(GE14:GI14) -> 0 | GP14: =SUM(GK14:GO14) -> 0 | GV14: =SUM(GQ14:GU14) -> 0 | HB14: =SUM(GW14:HA14) -> 0 | HH14: =SUM(HC14:HG14) -> 0 | HN14: =SUM(HI14:HM14) -> 0 | HO14: =SUM(FM14,FS14,FY14,GE14,GK14,GQ14,GW14,HC14,HI14) -> 0 | HP14: =SUM(FN14,FT14,FZ14,GF14,GL14,GR14,GX14,HD14,HJ14) -> 0 | HQ14: =SUM(HK14,HE14,GY14,GS14,GM14,GA14,GG14,FU14,FO14) -> 0 | HR14: =SUM(HL14,HF14,GZ14,GT14,GN14,GB14,GH14,FV14,FP14) -> 0 | HS14: =SUM(HM14,HG14,HA14,GU14,GO14,GC14,GI14,FW14,FQ14) -> 0 | HT14: =SUM(HO14:HS14) -> 0 | HZ14: =SUM(HU14:HY14) -> 0 | IF14: =SUM(IA14:IE14) -> 0 | IL14: =SUM(IG14:IK14) -> 0 | IM14: =SUM(HU14,IA14,IG14) -> 0 | IN14: =SUM(HV14,IB14,IH14) -> 0 | IO14: =SUM(HW14,IC14,II14) -> 0 | IP14: =SUM(HX14,ID14,IJ14) -> 0 | IQ14: =SUM(HY14,IE14,IK14) -> 0 | IR14: =SUM(IM14:IQ14) -> 0 | IX14: =SUM(IS14:IW14) -> 0 | JD14: =SUM(IY14:JC14) -> 0 | JJ14: =SUM(JE14:JI14) -> 0 | JK14: =SUM(IS14,IY14,JE14) -> 0 | JL14: =SUM(IT14,IZ14,JF14) -> 0 | JM14: =SUM(IU14,JA14,JG14) -> 0 | JN14: =SUM(IV14,JB14,JH14) -> 0 | JO14: =SUM(IW14,JC14,JI14) -> 0 | JP14: =SUM(JK14:JO14) -> 0 | JR14: =SUM(T14,BD14,CB14,DJ14,FG14,HO14,IM14,JK14) -> 0 | JS14: =SUM(U14,BE14,CC14,DK14,FH14,HP14,IN14,JL14) -> 0 | JT14: =SUM(V14,BF14,CD14,DL14,FI14,HQ14,IO14,JM14) -> 0 | JU14: =SUM(W14,BG14,CE14,DM14,FJ14,HR14,IP14,JN14) -> 0 | JV14: =SUM(X14,BH14,CF14,DN14,FK14,HS14,IQ14,JO14) -> 0 | JW14: =SUM(DO14) -> 0 | JX14: =SUM(JR14:JW14) -> 0
A15: IBT=Red Turpentine Beetle | G15: =SUM(B15:F15) -> 0 | M15: =SUM(H15:L15) -> 0 | S15: =SUM(N15:R15) -> 0 | T15: =SUM(B15,H15,N15) -> 0 | U15: =SUM(C15,I15,O15) -> 0 | V15: =SUM(D15,J15,P15) -> 0 | W15: =SUM(E15,K15,Q15) -> 0 | X15: =SUM(F15,L15,R15) -> 0 | Y15: =SUM(T15:X15) -> 0 | AE15: =SUM(Z15:AD15) -> 0 | AK15: =SUM(AF15:AJ15) -> 0 | AQ15: =SUM(AL15:AP15) -> 0 | AW15: =SUM(AR15:AV15) -> 0 | BC15: =SUM(AX15:BB15) -> 0 | BD15: =SUM(Z15,AF15,AL15,AR15,AX15) -> 0 | BE15: =SUM(AA15,AG15,AM15,AS15,AY15) -> 0 | BF15: =SUM(AB15,AH15,AN15,AT15,AZ15) -> 0 | BG15: =SUM(AC15,AI15,AO15,AU15,BA15) -> 0 | BH15: =SUM(AD15,AJ15,AP15,AV15,BB15) -> 0 | BI15: =SUM(BD15:BH15) -> 0 | BO15: =SUM(BJ15:BN15) -> 0 | BU15: =SUM(BP15:BT15) -> 0 | CA15: =SUM(BV15:BZ15) -> 0 | CB15: =SUM(BJ15,BP15,BV15) -> 0 | CC15: =SUM(BK15,BQ15,BW15) -> 0 | CD15: =SUM(BL15,BR15,BX15) -> 0 | CE15: =SUM(BM15,BS15,BY15) -> 0 | CF15: =SUM(BN15,BT15,BZ15) -> 0 | CG15: =SUM(CB15:CF15) -> 0 | CN15: =SUM(CH15:CM15) -> 0 | CU15: =SUM(CO15:CT15) -> 0 | DB15: =SUM(CV15:DA15) -> 0 | DI15: =SUM(DC15:DH15) -> 0 | DJ15: =SUM(CH15,CO15,CV15,DC15) -> 0 | DK15: =SUM(CI15,CP15,CW15,DD15) -> 0 | DL15: =SUM(CJ15,CQ15,CX15,DE15) -> 0 | DM15: =SUM(CK15,CR15,CY15,DF15) -> 0 | DN15: =SUM(CL15,CS15,CZ15,DG15) -> 0 | DO15: =SUM(CM15,CT15,DA15,DH15) -> 0 | DP15: =SUM(DJ15:DO15) -> 0 | DV15: =SUM(DQ15:DU15) -> 0 | EB15: =SUM(DW15:EA15) -> 0 | EH15: =SUM(EC15:EG15) -> 0 | EN15: =SUM(EI15:EM15) -> 0 | ET15: =SUM(EO15:ES15) -> 0 | EZ15: =SUM(EU15:EY15) -> 0 | FF15: =SUM(FA15:FE15) -> 0 | FG15: =SUM(DQ15,DW15,EC15,EI15,EO15,EU15,FA15) -> 0 | FH15: =SUM(DR15,DX15,ED15,EJ15,EP15,EV15,FB15) -> 0 | FI15: =SUM(DS15,DY15,EE15,EK15,EQ15,EW15,FC15) -> 0 | FJ15: =SUM(DT15,DZ15,EF15,EL15,ER15,EX15,FD15) -> 0 | FK15: =SUM(DU15,EA15,EG15,EM15,ES15,EY15,FE15) -> 0 | FL15: =SUM(FG15:FK15) -> 0 | FR15: =SUM(FM15:FQ15) -> 0 | FX15: =SUM(FS15:FW15) -> 0 | GD15: =SUM(FY15:GC15) -> 0 | GJ15: =SUM(GE15:GI15) -> 0 | GP15: =SUM(GK15:GO15) -> 0 | GV15: =SUM(GQ15:GU15) -> 0 | HB15: =SUM(GW15:HA15) -> 0 | HH15: =SUM(HC15:HG15) -> 0 | HN15: =SUM(HI15:HM15) -> 0 | HO15: =SUM(FM15,FS15,FY15,GE15,GK15,GQ15,GW15,HC15,HI15) -> 0 | HP15: =SUM(FN15,FT15,FZ15,GF15,GL15,GR15,GX15,HD15,HJ15) -> 0 | HQ15: =SUM(HK15,HE15,GY15,GS15,GM15,GA15,GG15,FU15,FO15) -> 0 | HR15: =SUM(HL15,HF15,GZ15,GT15,GN15,GB15,GH15,FV15,FP15) -> 0 | HS15: =SUM(HM15,HG15,HA15,GU15,GO15,GC15,GI15,FW15,FQ15) -> 0 | HT15: =SUM(HO15:HS15) -> 0 | HZ15: =SUM(HU15:HY15) -> 0 | IF15: =SUM(IA15:IE15) -> 0 | IL15: =SUM(IG15:IK15) -> 0 | IM15: =SUM(HU15,IA15,IG15) -> 0 | IN15: =SUM(HV15,IB15,IH15) -> 0 | IO15: =SUM(HW15,IC15,II15) -> 0 | IP15: =SUM(HX15,ID15,IJ15) -> 0 | IQ15: =SUM(HY15,IE15,IK15) -> 0 | IR15: =SUM(IM15:IQ15) -> 0 | IX15: =SUM(IS15:IW15) -> 0 | JD15: =SUM(IY15:JC15) -> 0 | JJ15: =SUM(JE15:JI15) -> 0 | JK15: =SUM(IS15,IY15,JE15) -> 0 | JL15: =SUM(IT15,IZ15,JF15) -> 0 | JM15: =SUM(IU15,JA15,JG15) -> 0 | JN15: =SUM(IV15,JB15,JH15) -> 0 | JO15: =SUM(IW15,JC15,JI15) -> 0 | JP15: =SUM(JK15:JO15) -> 0 | JR15: =SUM(T15,BD15,CB15,DJ15,FG15,HO15,IM15,JK15) -> 0 | JS15: =SUM(U15,BE15,CC15,DK15,FH15,HP15,IN15,JL15) -> 0 | JT15: =SUM(V15,BF15,CD15,DL15,FI15,HQ15,IO15,JM15) -> 0 | JU15: =SUM(W15,BG15,CE15,DM15,FJ15,HR15,IP15,JN15) -> 0 | JV15: =SUM(X15,BH15,CF15,DN15,FK15,HS15,IQ15,JO15) -> 0 | JW15: =SUM(DO15) -> 0 | JX15: =SUM(JR15:JW15) -> 0
A16: IB=Unknown Beetle | G16: =SUM(B16:F16) -> 0 | M16: =SUM(H16:L16) -> 0 | S16: =SUM(N16:R16) -> 0 | T16: =SUM(B16,H16,N16) -> 0 | U16: =SUM(C16,I16,O16) -> 0 | V16: =SUM(D16,J16,P16) -> 0 | W16: =SUM(E16,K16,Q16) -> 0 | X16: =SUM(F16,L16,R16) -> 0 | Y16: =SUM(T16:X16) -> 0 | AE16: =SUM(Z16:AD16) -> 0 | AK16: =SUM(AF16:AJ16) -> 0 | AQ16: =SUM(AL16:AP16) -> 0 | AW16: =SUM(AR16:AV16) -> 0 | BC16: =SUM(AX16:BB16) -> 0 | BD16: =SUM(Z16,AF16,AL16,AR16,AX16) -> 0 | BE16: =SUM(AA16,AG16,AM16,AS16,AY16) -> 0 | BF16: =SUM(AB16,AH16,AN16,AT16,AZ16) -> 0 | BG16: =SUM(AC16,AI16,AO16,AU16,BA16) -> 0 | BH16: =SUM(AD16,AJ16,AP16,AV16,BB16) -> 0 | BI16: =SUM(BD16:BH16) -> 0 | BO16: =SUM(BJ16:BN16) -> 0 | BU16: =SUM(BP16:BT16) -> 0 | CA16: =SUM(BV16:BZ16) -> 0 | CB16: =SUM(BJ16,BP16,BV16) -> 0 | CC16: =SUM(BK16,BQ16,BW16) -> 0 | CD16: =SUM(BL16,BR16,BX16) -> 0 | CE16: =SUM(BM16,BS16,BY16) -> 0 | CF16: =SUM(BN16,BT16,BZ16) -> 0 | CG16: =SUM(CB16:CF16) -> 0 | CN16: =SUM(CH16:CM16) -> 0 | CU16: =SUM(CO16:CT16) -> 0 | DB16: =SUM(CV16:DA16) -> 0 | DI16: =SUM(DC16:DH16) -> 0 | DJ16: =SUM(CH16,CO16,CV16,DC16) -> 0 | DK16: =SUM(CI16,CP16,CW16,DD16) -> 0 | DL16: =SUM(CJ16,CQ16,CX16,DE16) -> 0 | DM16: =SUM(CK16,CR16,CY16,DF16) -> 0 | DN16: =SUM(CL16,CS16,CZ16,DG16) -> 0 | DO16: =SUM(CM16,CT16,DA16,DH16) -> 0 | DP16: =SUM(DJ16:DO16) -> 0 | DV16: =SUM(DQ16:DU16) -> 0 | EB16: =SUM(DW16:EA16) -> 0 | EH16: =SUM(EC16:EG16) -> 0 | EN16: =SUM(EI16:EM16) -> 0 | ET16: =SUM(EO16:ES16) -> 0 | EZ16: =SUM(EU16:EY16) -> 0 | FF16: =SUM(FA16:FE16) -> 0 | FG16: =SUM(DQ16,DW16,EC16,EI16,EO16,EU16,FA16) -> 0 | FH16: =SUM(DR16,DX16,ED16,EJ16,EP16,EV16,FB16) -> 0 | FI16: =SUM(DS16,DY16,EE16,EK16,EQ16,EW16,FC16) -> 0 | FJ16: =SUM(DT16,DZ16,EF16,EL16,ER16,EX16,FD16) -> 0 | FK16: =SUM(DU16,EA16,EG16,EM16,ES16,EY16,FE16) -> 0 | FL16: =SUM(FG16:FK16) -> 0 | FR16: =SUM(FM16:FQ16) -> 0 | FX16: =SUM(FS16:FW16) -> 0 | GD16: =SUM(FY16:GC16) -> 0 | GJ16: =SUM(GE16:GI16) -> 0 | GP16: =SUM(GK16:GO16) -> 0 | GV16: =SUM(GQ16:GU16) -> 0 | HB16: =SUM(GW16:HA16) -> 0 | HH16: =SUM(HC16:HG16) -> 0 | HN16: =SUM(HI16:HM16) -> 0 | HO16: =SUM(FM16,FS16,FY16,GE16,GK16,GQ16,GW16,HC16,HI16) -> 0 | HP16: =SUM(FN16,FT16,FZ16,GF16,GL16,GR16,GX16,HD16,HJ16) -> 0 | HQ16: =SUM(HK16,HE16,GY16,GS16,GM16,GA16,GG16,FU16,FO16) -> 0 | HR16: =SUM(HL16,HF16,GZ16,GT16,GN16,GB16,GH16,FV16,FP16) -> 0 | HS16: =SUM(HM16,HG16,HA16,GU16,GO16,GC16,GI16,FW16,FQ16) -> 0 | HT16: =SUM(HO16:HS16) -> 0 | HZ16: =SUM(HU16:HY16) -> 0 | IF16: =SUM(IA16:IE16) -> 0 | IL16: =SUM(IG16:IK16) -> 0 | IM16: =SUM(HU16,IA16,IG16) -> 0 | IN16: =SUM(HV16,IB16,IH16) -> 0 | IO16: =SUM(HW16,IC16,II16) -> 0 | IP16: =SUM(HX16,ID16,IJ16) -> 0 | IQ16: =SUM(HY16,IE16,IK16) -> 0 | IR16: =SUM(IM16:IQ16) -> 0 | IX16: =SUM(IS16:IW16) -> 0 | JD16: =SUM(IY16:JC16) -> 0 | JJ16: =SUM(JE16:JI16) -> 0 | JK16: =SUM(IS16,IY16,JE16) -> 0 | JL16: =SUM(IT16,IZ16,JF16) -> 0 | JM16: =SUM(IU16,JA16,JG16) -> 0 | JN16: =SUM(IV16,JB16,JH16) -> 0 | JO16: =SUM(IW16,JC16,JI16) -> 0 | JP16: =SUM(JK16:JO16) -> 0 | JR16: =SUM(T16,BD16,CB16,DJ16,FG16,HO16,IM16,JK16) -> 0 | JS16: =SUM(U16,BE16,CC16,DK16,FH16,HP16,IN16,JL16) -> 0 | JT16: =SUM(V16,BF16,CD16,DL16,FI16,HQ16,IO16,JM16) -> 0 | JU16: =SUM(W16,BG16,CE16,DM16,FJ16,HR16,IP16,JN16) -> 0 | JV16: =SUM(X16,BH16,CF16,DN16,FK16,HS16,IQ16,JO16) -> 0 | JW16: =SUM(DO16) -> 0 | JX16: =SUM(JR16:JW16) -> 0
